BEGIN:VCALENDAR
VERSION:2.0
PRODID:-//Turismo de Cantabria - ECPv6.12.0.1//NONSGML v1.0//EN
CALSCALE:GREGORIAN
METHOD:PUBLISH
X-WR-CALNAME:Turismo de Cantabria
X-ORIGINAL-URL:https://staging.turismodecantabria.eurocastaliahost4.com
X-WR-CALDESC:Eventos para Turismo de Cantabria
REFRESH-INTERVAL;VALUE=DURATION:PT1H
X-Robots-Tag:noindex
X-PUBLISHED-TTL:PT1H
BEGIN:VTIMEZONE
TZID:Europe/Madrid
BEGIN:DAYLIGHT
TZOFFSETFROM:+0100
TZOFFSETTO:+0200
TZNAME:CEST
DTSTART:20250330T010000
END:DAYLIGHT
BEGIN:STANDARD
TZOFFSETFROM:+0200
TZOFFSETTO:+0100
TZNAME:CET
DTSTART:20251026T010000
END:STANDARD
END:VTIMEZONE
BEGIN:VEVENT
DTSTART;TZID=Europe/Madrid:20250601T120000
DTEND;TZID=Europe/Madrid:20250601T133000
DTSTAMP:20260423T073607
CREATED:20250530T081302Z
LAST-MODIFIED:20250530T081302Z
UID:10020120-1748779200-1748784600@staging.turismodecantabria.eurocastaliahost4.com
SUMMARY:Música en directo y swing por el Pachinko
DESCRIPTION:Una mañana de domingo con buena música en directo\, vistas al mar y muchas ganas de bailar. Así es este plan que hemos creado en colaboración con el festival La Tierruca Swing Weekend para recargar energía a ritmo de swing de la mano del grupo Flaca and The Beat\, banda cántabra con una amplia trayectoria. \nEl swing o lindy hop es un tipo de baile que comenzó en los años 20 en el barrio de Harlem\, (Nueva York). Las comunidades afroamericanas\, inspiradas en el jazz\, crearon un estilo de baile al ritmo de música rápida y alegre que hay que sentir para poder seguir. Este hecho\, unido al fuerte componente social del lindy hop\, enfocado sobre todo a la participación\, hace de este baile una experiencia maravillosa tanto para quien lo practica como para quien observa a los bailarines. \nTe invitamos a que disfrutes de la música en directo y te dejes llevar\, simplemente\, habitando este increíble espacio y recorriéndolo con tus pasos. Porque bailar libremente es divertido\, nos libera y nos ayuda a expresarnos sin palabras. Por eso bailar potencia nuestras habilidades emocionales y creativas como demuestran las investigaciones recogidas en el informe Artes y emociones que potencian la creatividad. \nNo te lo pierdas. Solo tienes que venir y disfrutar. \nMás información en la web oficial \nLa cultura en Cantabria\, Apetece
URL:https://staging.turismodecantabria.eurocastaliahost4.com/proximamente-evento/musica-en-directo-y-swing-por-el-pachinko/
LOCATION:Santander\, Santander
CATEGORIES:Cultura
ATTACH;FMTTYPE=image/jpeg:https://staging.turismodecantabria.eurocastaliahost4.com/wp-content/uploads/2025/05/10625musicadirectoswingpachinko1200-e1748592725766.jpg
END:VEVENT
END:VCALENDAR