BEGIN:VCALENDAR
VERSION:2.0
PRODID:-//Turismo de Cantabria - ECPv6.12.0.1//NONSGML v1.0//EN
CALSCALE:GREGORIAN
METHOD:PUBLISH
X-WR-CALNAME:Turismo de Cantabria
X-ORIGINAL-URL:https://staging.turismodecantabria.eurocastaliahost4.com
X-WR-CALDESC:Eventos para Turismo de Cantabria
REFRESH-INTERVAL;VALUE=DURATION:PT1H
X-Robots-Tag:noindex
X-PUBLISHED-TTL:PT1H
BEGIN:VTIMEZONE
TZID:Europe/Madrid
BEGIN:DAYLIGHT
TZOFFSETFROM:+0100
TZOFFSETTO:+0200
TZNAME:CEST
DTSTART:20130331T010000
END:DAYLIGHT
BEGIN:STANDARD
TZOFFSETFROM:+0200
TZOFFSETTO:+0100
TZNAME:CET
DTSTART:20131027T010000
END:STANDARD
BEGIN:DAYLIGHT
TZOFFSETFROM:+0100
TZOFFSETTO:+0200
TZNAME:CEST
DTSTART:20140330T010000
END:DAYLIGHT
BEGIN:STANDARD
TZOFFSETFROM:+0200
TZOFFSETTO:+0100
TZNAME:CET
DTSTART:20141026T010000
END:STANDARD
BEGIN:DAYLIGHT
TZOFFSETFROM:+0100
TZOFFSETTO:+0200
TZNAME:CEST
DTSTART:20150329T010000
END:DAYLIGHT
BEGIN:STANDARD
TZOFFSETFROM:+0200
TZOFFSETTO:+0100
TZNAME:CET
DTSTART:20151025T010000
END:STANDARD
BEGIN:DAYLIGHT
TZOFFSETFROM:+0100
TZOFFSETTO:+0200
TZNAME:CEST
DTSTART:20160327T010000
END:DAYLIGHT
BEGIN:STANDARD
TZOFFSETFROM:+0200
TZOFFSETTO:+0100
TZNAME:CET
DTSTART:20161030T010000
END:STANDARD
BEGIN:DAYLIGHT
TZOFFSETFROM:+0100
TZOFFSETTO:+0200
TZNAME:CEST
DTSTART:20170326T010000
END:DAYLIGHT
BEGIN:STANDARD
TZOFFSETFROM:+0200
TZOFFSETTO:+0100
TZNAME:CET
DTSTART:20171029T010000
END:STANDARD
BEGIN:DAYLIGHT
TZOFFSETFROM:+0100
TZOFFSETTO:+0200
TZNAME:CEST
DTSTART:20180325T010000
END:DAYLIGHT
BEGIN:STANDARD
TZOFFSETFROM:+0200
TZOFFSETTO:+0100
TZNAME:CET
DTSTART:20181028T010000
END:STANDARD
BEGIN:DAYLIGHT
TZOFFSETFROM:+0100
TZOFFSETTO:+0200
TZNAME:CEST
DTSTART:20190331T010000
END:DAYLIGHT
BEGIN:STANDARD
TZOFFSETFROM:+0200
TZOFFSETTO:+0100
TZNAME:CET
DTSTART:20191027T010000
END:STANDARD
BEGIN:DAYLIGHT
TZOFFSETFROM:+0100
TZOFFSETTO:+0200
TZNAME:CEST
DTSTART:20200329T010000
END:DAYLIGHT
BEGIN:STANDARD
TZOFFSETFROM:+0200
TZOFFSETTO:+0100
TZNAME:CET
DTSTART:20201025T010000
END:STANDARD
BEGIN:DAYLIGHT
TZOFFSETFROM:+0100
TZOFFSETTO:+0200
TZNAME:CEST
DTSTART:20210328T010000
END:DAYLIGHT
BEGIN:STANDARD
TZOFFSETFROM:+0200
TZOFFSETTO:+0100
TZNAME:CET
DTSTART:20211031T010000
END:STANDARD
BEGIN:DAYLIGHT
TZOFFSETFROM:+0100
TZOFFSETTO:+0200
TZNAME:CEST
DTSTART:20220327T010000
END:DAYLIGHT
BEGIN:STANDARD
TZOFFSETFROM:+0200
TZOFFSETTO:+0100
TZNAME:CET
DTSTART:20221030T010000
END:STANDARD
BEGIN:DAYLIGHT
TZOFFSETFROM:+0100
TZOFFSETTO:+0200
TZNAME:CEST
DTSTART:20230326T010000
END:DAYLIGHT
BEGIN:STANDARD
TZOFFSETFROM:+0200
TZOFFSETTO:+0100
TZNAME:CET
DTSTART:20231029T010000
END:STANDARD
BEGIN:DAYLIGHT
TZOFFSETFROM:+0100
TZOFFSETTO:+0200
TZNAME:CEST
DTSTART:20240331T010000
END:DAYLIGHT
BEGIN:STANDARD
TZOFFSETFROM:+0200
TZOFFSETTO:+0100
TZNAME:CET
DTSTART:20241027T010000
END:STANDARD
BEGIN:DAYLIGHT
TZOFFSETFROM:+0100
TZOFFSETTO:+0200
TZNAME:CEST
DTSTART:20250330T010000
END:DAYLIGHT
BEGIN:STANDARD
TZOFFSETFROM:+0200
TZOFFSETTO:+0100
TZNAME:CET
DTSTART:20251026T010000
END:STANDARD
END:VTIMEZONE
BEGIN:VEVENT
DTSTART;VALUE=DATE:20130124
DTEND;VALUE=DATE:20130701
DTSTAMP:20260421T161752
CREATED:20240517T105804Z
LAST-MODIFIED:20240605T122955Z
UID:10017859-1358985600-1372636799@staging.turismodecantabria.eurocastaliahost4.com
SUMMARY:Turismo Religioso
DESCRIPTION:Consulta el programa de 6 días recorriendo los lugares de culto en Cantabria. \n 
URL:https://staging.turismodecantabria.eurocastaliahost4.com/proximamente-evento/turismo-religioso/
LOCATION:Saja-Nansa
CATEGORIES:Todo el año
ATTACH;FMTTYPE=image/jpeg:https://staging.turismodecantabria.eurocastaliahost4.com/wp-content/uploads/2023/05/22626e00-0aef-acd7-b29a-47c07650c686.jpg
END:VEVENT
BEGIN:VEVENT
DTSTART;VALUE=DATE:20160106
DTEND;VALUE=DATE:20160107
DTSTAMP:20260421T161752
CREATED:20240517T105745Z
LAST-MODIFIED:20240611T095939Z
UID:10018155-1452038400-1452124799@staging.turismodecantabria.eurocastaliahost4.com
SUMMARY:Ven a caminar al nansa este verano
DESCRIPTION:A partir de 8 personas y para todas las edades\, este servicio se realizará de Lunes a Viernes no festivos para rutas en el Valle del Nansa seleccionadas por los Guías de la Naturaleza de la Mancomunidad de Municipios Nansa y el Ayuntamiento de Rionansa según nivel\, disponibilidad y condiciones meteorológicas. También guiado para grupos con intérpretes y especialistas propios.  \nSi estás interesado en estas rutas puedes solicitar información en mancomunidadnansa@gmail.com \n 
URL:https://staging.turismodecantabria.eurocastaliahost4.com/proximamente-evento/ven-a-caminar-al-nansa-este-verano/
LOCATION:Saja-Nansa
CATEGORIES:Todo el año
ATTACH;FMTTYPE=image/jpeg:https://staging.turismodecantabria.eurocastaliahost4.com/wp-content/uploads/2023/05/19648be2-024b-740c-3cef-60237d7cc1f0.jpg
END:VEVENT
BEGIN:VEVENT
DTSTART;VALUE=DATE:20180305
DTEND;VALUE=DATE:20180306
DTSTAMP:20260421T161752
CREATED:20240517T105729Z
LAST-MODIFIED:20240610T152645Z
UID:10018166-1520208000-1520294399@staging.turismodecantabria.eurocastaliahost4.com
SUMMARY:Exploring Cueva del Soplao
DESCRIPTION:La visita consistirá en realizar un circuito guiado de 1 hora a pie a través de diferentes galerías de la cueva a la que accederemos con un trenecito. Es una ruta muy fácil y accesible para todos. Lo único a destacar es que la temperatura media de la cueva son 12ºC. También en verano\, así que hay que ir abrigados. \n\nINFORMACIÓN BÁSICA\nDuración: 4 hrs\nGrupos Reducidos (2- 8 personas)\nPeríodo: Todo el año\nSalidas: Jueves 9:30 am\nLugar de salida: Santander \nIdiomas: Español e Inglés\nPrecio:  49\,00/ persona\nNiños: 39\,00 (2- 12 años) \n+ Info y Reservas en: www.exploringcantabria.com  o en Telf. 683188858 \nDisfruta en Rionansa la Cueva El Soplao \n 
URL:https://staging.turismodecantabria.eurocastaliahost4.com/proximamente-evento/exploring-cueva-del-soplao/
LOCATION:Saja-Nansa
CATEGORIES:Todo el año
ATTACH;FMTTYPE=image/jpeg:https://staging.turismodecantabria.eurocastaliahost4.com/wp-content/uploads/2023/05/29bd0686-991c-9c41-7b7a-9f7a5e4f9f20.jpg
END:VEVENT
BEGIN:VEVENT
DTSTART;VALUE=DATE:20180430
DTEND;VALUE=DATE:20181224
DTSTAMP:20260421T161752
CREATED:20240517T105729Z
LAST-MODIFIED:20240529T140421Z
UID:10017892-1525046400-1545609599@staging.turismodecantabria.eurocastaliahost4.com
SUMMARY:Peregrinación a Santo Toribio y San Sebastián de Garabandal
DESCRIPTION:Nos desplazaremos en van hasta Potes  donde podrás hacer el último tramo del Camino Lebaniego a pie (3 km). A continuación\, participaremos en la misa del peregrino y disfrutaremos también de las vistas espectaculares que nos ofrece la ermita de San Miguel de Picos de Europa. uno de los mejores miradores de Cantabria\, el mirador de Santa Catalina.\nPararemos en Potes para conocer este hermoso pueblo y disfrutar de su plato típico\, el cocido lebaniego. Una vez recuperadas las energías\, nos dirigiremos a San Sebastián de Garabandal donde podrás subir a Los Pinos\, el lugar donde se apareció la Virgen María en los años 60. \nINFORMACIÓN BÁSICA \n\nDuración: 10 hrs\nGrupos Reducidos (2- 8 personas)\nPeríodo: Todo el año\nIdiomas: Español e Inglés\nPrecio:  99/ persona\nNiños: -40% (2- 12 años)ç\n\n+ Info y Reservas en: www.exploringcantabria.com  o en Telf. 683188858 \n 
URL:https://staging.turismodecantabria.eurocastaliahost4.com/proximamente-evento/peregrinacion-a-santo-toribio-y-san-sebastian-de-garabandal/
LOCATION:Saja-Nansa
CATEGORIES:Todo el año
ATTACH;FMTTYPE=image/jpeg:https://staging.turismodecantabria.eurocastaliahost4.com/wp-content/uploads/2023/05/8c3e8e0f-c7d9-e998-a56e-c1e551f9bbab.jpg
END:VEVENT
BEGIN:VEVENT
DTSTART;VALUE=DATE:20220712
DTEND;VALUE=DATE:20220831
DTSTAMP:20260421T161752
CREATED:20231213T160655Z
LAST-MODIFIED:20240610T153817Z
UID:10014701-1657584000-1661903999@staging.turismodecantabria.eurocastaliahost4.com
SUMMARY:Exposición PaleoNansa
DESCRIPTION:Puedes visitar la muestra de lunes a viernes en horario de 10:00h a 17:00h. \nDisfruta la cultura en Cantabria\, + x descubrir
URL:https://staging.turismodecantabria.eurocastaliahost4.com/proximamente-evento/exposicion-paleonansa/
LOCATION:Saja-Nansa
CATEGORIES:Actividades con niños,Exposiciones
ATTACH;FMTTYPE=image/jpeg:https://staging.turismodecantabria.eurocastaliahost4.com/wp-content/uploads/2023/04/39256d6e-3584-604c-e224-fcd5f8da060c-trgn5p.tmp-.jpg
END:VEVENT
BEGIN:VEVENT
DTSTART;VALUE=DATE:20230718
DTEND;VALUE=DATE:20230719
DTSTAMP:20260421T161752
CREATED:20231214T105953Z
LAST-MODIFIED:20240515T144328Z
UID:10016160-1689638400-1689724799@staging.turismodecantabria.eurocastaliahost4.com
SUMMARY:Fiestas de San Sebastián de Garabandal
DESCRIPTION:Puedes ver el programa completo en el fichero adjunto \nDisfruta San Sebastián de Garabandal en Cantabria\, + x descubrir
URL:https://staging.turismodecantabria.eurocastaliahost4.com/proximamente-evento/fiestas-de-san-sebastian-de-garabandal/
LOCATION:Saja-Nansa
CATEGORIES:Actividades con niños,Fiestas y ferias
ATTACH;FMTTYPE=image/jpeg:https://staging.turismodecantabria.eurocastaliahost4.com/wp-content/uploads/2023/12/d40574fa-8352-02af-41af-ad141e6bcafc-f8vzna.tmp-.jpg
END:VEVENT
BEGIN:VEVENT
DTSTART;VALUE=DATE:20230927
DTEND;VALUE=DATE:20230930
DTSTAMP:20260421T161752
CREATED:20240914T101230Z
LAST-MODIFIED:20240917T132825Z
UID:10016543-1695772800-1696031999@staging.turismodecantabria.eurocastaliahost4.com
SUMMARY:Fiestas de San Miguel en Puentenansa
DESCRIPTION:Puedes ver el programa completo en el fichero adjunto \nPuentenansa en Cantabria\, Apetece \nPrograma San Miguel Puentenansa
URL:https://staging.turismodecantabria.eurocastaliahost4.com/proximamente-evento/fiestas-de-san-miguel-en-puentenansa/
LOCATION:Rionansa\, Rionansa\, Saja-Nansa
CATEGORIES:Fiestas y ferias
ATTACH;FMTTYPE=image/jpeg:https://staging.turismodecantabria.eurocastaliahost4.com/wp-content/uploads/2023/12/san-miguel-en-puentenansa.jpg
END:VEVENT
BEGIN:VEVENT
DTSTART;VALUE=DATE:20230929
DTEND;VALUE=DATE:20230930
DTSTAMP:20260421T161752
CREATED:20231214T111221Z
LAST-MODIFIED:20240610T104001Z
UID:10016535-1695945600-1696031999@staging.turismodecantabria.eurocastaliahost4.com
SUMMARY:Feria y fiestas de San Miguel
DESCRIPTION:Feria de ganado\, mercado agroalimentario\, concurso ollas ferroviarias\, parque infantil y mucho más \nPuedes ver el programa completo en el documento adjunto \nDisfruta Rionansa en Cantabria\, + x descubrir
URL:https://staging.turismodecantabria.eurocastaliahost4.com/proximamente-evento/feria-y-fiestas-de-san-miguel/
LOCATION:Saja-Nansa
CATEGORIES:Actividades con niños,Fiestas y ferias
ATTACH;FMTTYPE=image/jpeg:https://staging.turismodecantabria.eurocastaliahost4.com/wp-content/uploads/2023/12/eae94930-d2e4-4f93-0538-d2b59d061e82-vfvt16.tmp-.jpg
END:VEVENT
BEGIN:VEVENT
DTSTART;VALUE=DATE:20231021
DTEND;VALUE=DATE:20231022
DTSTAMP:20260421T161752
CREATED:20231214T111654Z
LAST-MODIFIED:20240503T085625Z
UID:10016656-1697846400-1697932799@staging.turismodecantabria.eurocastaliahost4.com
SUMMARY:Nansa Fest
DESCRIPTION:Más información y programa en el adjunto \nDisfruta Puentenansa en Cantabria\, + x descubrir
URL:https://staging.turismodecantabria.eurocastaliahost4.com/proximamente-evento/nansa-fest/
LOCATION:Saja-Nansa
CATEGORIES:Fiestas y ferias
ATTACH;FMTTYPE=image/jpeg:https://staging.turismodecantabria.eurocastaliahost4.com/wp-content/uploads/2023/12/492d5106-0fd9-d9b1-e9e3-1ad22dfd379f-3pfajv.tmp-.jpg
END:VEVENT
BEGIN:VEVENT
DTSTART;VALUE=DATE:20231125
DTEND;VALUE=DATE:20231126
DTSTAMP:20260421T161752
CREATED:20231214T112239Z
LAST-MODIFIED:20240515T154748Z
UID:10016811-1700870400-1700956799@staging.turismodecantabria.eurocastaliahost4.com
SUMMARY:Fiesta de San Facundo
DESCRIPTION:Puedes ver el programa completo en el fichero adjunto \nDisfruta Obeso en Cantabria\, + x descubrir
URL:https://staging.turismodecantabria.eurocastaliahost4.com/proximamente-evento/fiesta-de-san-facundo/
LOCATION:Saja-Nansa
CATEGORIES:Actividades con niños,Fiestas y ferias
ATTACH;FMTTYPE=image/jpeg:https://staging.turismodecantabria.eurocastaliahost4.com/wp-content/uploads/2023/12/9b7893bd-7191-3dc1-6a9e-b2a4e58d5316-pkeelx.tmp-.jpg
END:VEVENT
BEGIN:VEVENT
DTSTART;VALUE=DATE:20240214
DTEND;VALUE=DATE:20240215
DTSTAMP:20260421T161752
CREATED:20240214T120349Z
LAST-MODIFIED:20240515T140520Z
UID:10017329-1707868800-1707955199@staging.turismodecantabria.eurocastaliahost4.com
SUMMARY:Carnaval de Puentenansa
DESCRIPTION:Más información en el cartel adjunto \nDisfruta Puentenansa en Cantabria\, + x descubrir
URL:https://staging.turismodecantabria.eurocastaliahost4.com/proximamente-evento/carnaval-de-puentenansa/
LOCATION:Saja-Nansa
CATEGORIES:Actividades con niños,Carnaval
ATTACH;FMTTYPE=image/jpeg:https://staging.turismodecantabria.eurocastaliahost4.com/wp-content/uploads/2024/02/4f0b2db7-6694-212a-62fe-ae0e903c7b41-qpy9eu.tmp-.jpg
END:VEVENT
BEGIN:VEVENT
DTSTART;VALUE=DATE:20240309
DTEND;VALUE=DATE:20240310
DTSTAMP:20260421T161752
CREATED:20240213T165349Z
LAST-MODIFIED:20240613T102356Z
UID:10015608-1709942400-1710028799@staging.turismodecantabria.eurocastaliahost4.com
SUMMARY:Feria de ganado de Rionansa
DESCRIPTION:La feria se celebra cada año en Barciquindiz-Puentenansa y a ella que acuden ganaderos de toda la comarca. \nDisfruta las ferias en Cantabria\, + x descubrir
URL:https://staging.turismodecantabria.eurocastaliahost4.com/proximamente-evento/feria-de-ganado-de-rionansa/
LOCATION:Rionansa\, Rionansa\, Saja-Nansa
CATEGORIES:Fiestas y ferias
ATTACH;FMTTYPE=image/jpeg:https://staging.turismodecantabria.eurocastaliahost4.com/wp-content/uploads/2023/12/feria-anual-de-ganado-en-barciquindiz.jpg
END:VEVENT
BEGIN:VEVENT
DTSTART;VALUE=DATE:20240713
DTEND;VALUE=DATE:20240717
DTSTAMP:20260421T161752
CREATED:20240710T105829Z
LAST-MODIFIED:20260226T094720Z
UID:10018456-1720828800-1721174399@staging.turismodecantabria.eurocastaliahost4.com
SUMMARY:El Carmen en Cosio
DESCRIPTION:Puedes ver el programa completo en la imagen adjunta \nCosio en Cantabria\, Apetece
URL:https://staging.turismodecantabria.eurocastaliahost4.com/proximamente-evento/el-carmen-en-cosio/
LOCATION:Rionansa\, Rionansa\, Saja-Nansa
CATEGORIES:Fiestas y ferias
ATTACH;FMTTYPE=image/jpeg:https://staging.turismodecantabria.eurocastaliahost4.com/wp-content/uploads/2024/07/el-carmen-en-cosio.jpg
END:VEVENT
BEGIN:VEVENT
DTSTART;VALUE=DATE:20240725
DTEND;VALUE=DATE:20240728
DTSTAMP:20260421T161752
CREATED:20240714T100054Z
LAST-MODIFIED:20260225T144930Z
UID:10016192-1721865600-1722124799@staging.turismodecantabria.eurocastaliahost4.com
SUMMARY:Santiago y Santa Ana en Rozadío
DESCRIPTION:Puedes ver la programación completa en el documento adjunto \nRozadío en Cantabria\, Apetece \nPrograma fiestas de santiago en rozadio
URL:https://staging.turismodecantabria.eurocastaliahost4.com/proximamente-evento/santiago-y-santa-ana-en-rozadio/
LOCATION:Rionansa\, Rionansa\, Saja-Nansa
CATEGORIES:Fiestas y ferias
ATTACH;FMTTYPE=image/jpeg:https://staging.turismodecantabria.eurocastaliahost4.com/wp-content/uploads/2023/12/rozadio.jpg
END:VEVENT
BEGIN:VEVENT
DTSTART;TZID=Europe/Madrid:20240830T080000
DTEND;TZID=Europe/Madrid:20240831T170000
DTSTAMP:20260421T161752
CREATED:20240826T093239Z
LAST-MODIFIED:20240826T093239Z
UID:10019360-1725004800-1725123600@staging.turismodecantabria.eurocastaliahost4.com
SUMMARY:Fiestas de Rioseco
DESCRIPTION:Puedes ver la programación completa en el fichero adjunto \nLas fiestas en Cantabria\, Apetecen \nFiestas de Rioseco
URL:https://staging.turismodecantabria.eurocastaliahost4.com/proximamente-evento/fiestas-de-rioseco/
LOCATION:Rionansa\, Rionansa\, Saja-Nansa
CATEGORIES:Fiestas y ferias
ATTACH;FMTTYPE=image/jpeg:https://staging.turismodecantabria.eurocastaliahost4.com/wp-content/uploads/2024/08/fiestas-de-rioseco-imagen.jpg
END:VEVENT
BEGIN:VEVENT
DTSTART;TZID=Europe/Madrid:20240928T080000
DTEND;TZID=Europe/Madrid:20241001T170000
DTSTAMP:20260421T161752
CREATED:20240927T070510Z
LAST-MODIFIED:20240927T070510Z
UID:10019434-1727510400-1727802000@staging.turismodecantabria.eurocastaliahost4.com
SUMMARY:San Miguel en Rionansa
DESCRIPTION:Puedes ver el programa completo en la web oficial \nRionansa en Cantabria\, Apetece \n 
URL:https://staging.turismodecantabria.eurocastaliahost4.com/proximamente-evento/san-miguel-en-rionansa/
LOCATION:Rionansa\, Rionansa\, Saja-Nansa
CATEGORIES:Fiestas y ferias
ATTACH;FMTTYPE=image/jpeg:https://staging.turismodecantabria.eurocastaliahost4.com/wp-content/uploads/2024/09/feria-rionansa.jpg
END:VEVENT
BEGIN:VEVENT
DTSTART;TZID=Europe/Madrid:20241130T173000
DTEND;TZID=Europe/Madrid:20241130T233000
DTSTAMP:20260421T161752
CREATED:20241104T071548Z
LAST-MODIFIED:20241204T093106Z
UID:10019512-1732987800-1733009400@staging.turismodecantabria.eurocastaliahost4.com
SUMMARY:El Tardíu en Rozadío
DESCRIPTION:Cuenta cuentos\, chocolatada\, magosta\, verbena y mucho más \nPuedes ver la programación completa en el fichero adjunto: Carteltardiu-Rozadío2024 \nRozadío en Cantabria\, Apetece
URL:https://staging.turismodecantabria.eurocastaliahost4.com/proximamente-evento/el-tardiu-en-rozadio/
LOCATION:Rionansa\, Rionansa\, Saja-Nansa
CATEGORIES:Fiestas y ferias
ATTACH;FMTTYPE=image/jpeg:https://staging.turismodecantabria.eurocastaliahost4.com/wp-content/uploads/2024/11/el-tardiu-en-rozadio.jpg
END:VEVENT
BEGIN:VEVENT
DTSTART;TZID=Europe/Madrid:20250418T080000
DTEND;TZID=Europe/Madrid:20250419T170000
DTSTAMP:20260421T161752
CREATED:20250409T140030Z
LAST-MODIFIED:20250409T140030Z
UID:10019994-1744963200-1745082000@staging.turismodecantabria.eurocastaliahost4.com
SUMMARY:Grandes fiestas de San Jorge
DESCRIPTION:Puedes ver la programación en el fichero adjunto \nCabrojo en Cantabria\, Apetece \nsan jorge cabrojo (1)
URL:https://staging.turismodecantabria.eurocastaliahost4.com/proximamente-evento/grandes-fiestas-de-san-jorge/
LOCATION:Rionansa\, Rionansa\, Saja-Nansa
ATTACH;FMTTYPE=image/jpeg:https://staging.turismodecantabria.eurocastaliahost4.com/wp-content/uploads/2025/04/san-jorge-cabrojo-e1744206995780.jpg
END:VEVENT
BEGIN:VEVENT
DTSTART;VALUE=DATE:20250725
DTEND;VALUE=DATE:20250727
DTSTAMP:20260421T161752
CREATED:20250707T061430Z
LAST-MODIFIED:20260225T143841Z
UID:10018471-1753401600-1753574399@staging.turismodecantabria.eurocastaliahost4.com
SUMMARY:Fiestas Rozadío
DESCRIPTION:Puedes ver la programación completa en la imagen adjunta: Cartel FIESTAS ROZADÍO 2025  \nRozadío en Cantabria\, Apetece \n 
URL:https://staging.turismodecantabria.eurocastaliahost4.com/proximamente-evento/fiestas-rozadio/
LOCATION:Rionansa\, Rionansa\, Saja-Nansa
CATEGORIES:Fiestas y ferias
ATTACH;FMTTYPE=image/jpeg:https://staging.turismodecantabria.eurocastaliahost4.com/wp-content/uploads/2024/07/cartel-fiestas-rozadio-imagen.jpg
END:VEVENT
BEGIN:VEVENT
DTSTART;TZID=Europe/Madrid:20250829T080000
DTEND;TZID=Europe/Madrid:20250830T170000
DTSTAMP:20260421T161752
CREATED:20250826T064655Z
LAST-MODIFIED:20250826T071825Z
UID:10020387-1756454400-1756573200@staging.turismodecantabria.eurocastaliahost4.com
SUMMARY:Fiestas de San Celedonio y San Emeterio
DESCRIPTION:Más información y programa completo en el fichero adjunto \nRioseco en Cantabria\, Apetece \n 
URL:https://staging.turismodecantabria.eurocastaliahost4.com/proximamente-evento/fiestas-de-san-celedonio-y-san-emeterio/
LOCATION:Rionansa\, Rionansa\, Saja-Nansa
CATEGORIES:Fiestas y ferias
ATTACH;FMTTYPE=image/jpeg:https://staging.turismodecantabria.eurocastaliahost4.com/wp-content/uploads/2025/08/fiesta-rioseco-1-e1756192698564.jpg
END:VEVENT
BEGIN:VEVENT
DTSTART;VALUE=DATE:20250905
DTEND;VALUE=DATE:20250909
DTSTAMP:20260421T161752
CREATED:20250821T100801Z
LAST-MODIFIED:20250827T133119Z
UID:10016444-1757030400-1757375999@staging.turismodecantabria.eurocastaliahost4.com
SUMMARY:Fiestas de la Salud
DESCRIPTION:Puedes ver el programa completo en el fichero adjunto \nPuentenansa en Cantabria\, Apetece
URL:https://staging.turismodecantabria.eurocastaliahost4.com/proximamente-evento/fiestas-de-la-salud/
LOCATION:Rionansa\, Rionansa\, Saja-Nansa
CATEGORIES:Fiestas y ferias
ATTACH;FMTTYPE=image/jpeg:https://staging.turismodecantabria.eurocastaliahost4.com/wp-content/uploads/2025/08/puentenansa-lasalud-1.jpg
END:VEVENT
BEGIN:VEVENT
DTSTART;VALUE=DATE:20251122
DTEND;VALUE=DATE:20251123
DTSTAMP:20260421T161752
CREATED:20251105T083759Z
LAST-MODIFIED:20251126T115656Z
UID:10020591-1763769600-1763855999@staging.turismodecantabria.eurocastaliahost4.com
SUMMARY:El tardíu
DESCRIPTION:Puedes ver el cartel completo en el fichero adjunto \nRozadío en Cantabria\, Apetece
URL:https://staging.turismodecantabria.eurocastaliahost4.com/proximamente-evento/el-tardiu/
LOCATION:Rionansa\, Rionansa\, Saja-Nansa
CATEGORIES:Fiestas y ferias
ATTACH;FMTTYPE=image/png:https://staging.turismodecantabria.eurocastaliahost4.com/wp-content/uploads/2025/11/tardiu-rozadio.png
END:VEVENT
BEGIN:VEVENT
DTSTART;VALUE=DATE:20251128
DTEND;VALUE=DATE:20251130
DTSTAMP:20260421T161752
CREATED:20251124T103943Z
LAST-MODIFIED:20251124T103943Z
UID:10020640-1764288000-1764460799@staging.turismodecantabria.eurocastaliahost4.com
SUMMARY:Fiestas de San Facundo
DESCRIPTION:Más información en el cartel adjunto \nRionansa en Cantabria\, Apetece
URL:https://staging.turismodecantabria.eurocastaliahost4.com/proximamente-evento/fiestas-de-san-facundo/
LOCATION:Rionansa\, Rionansa\, Saja-Nansa
CATEGORIES:Fiestas y ferias
ATTACH;FMTTYPE=image/jpeg:https://staging.turismodecantabria.eurocastaliahost4.com/wp-content/uploads/2025/11/san-facundo-e1763980721127.jpg
END:VEVENT
END:VCALENDAR