BEGIN:VCALENDAR
VERSION:2.0
PRODID:-//Turismo de Cantabria - ECPv6.12.0.1//NONSGML v1.0//EN
CALSCALE:GREGORIAN
METHOD:PUBLISH
X-ORIGINAL-URL:https://staging.turismodecantabria.eurocastaliahost4.com
X-WR-CALDESC:Eventos para Turismo de Cantabria
REFRESH-INTERVAL;VALUE=DURATION:PT1H
X-Robots-Tag:noindex
X-PUBLISHED-TTL:PT1H
BEGIN:VTIMEZONE
TZID:Europe/Madrid
BEGIN:DAYLIGHT
TZOFFSETFROM:+0100
TZOFFSETTO:+0200
TZNAME:CEST
DTSTART:20210328T010000
END:DAYLIGHT
BEGIN:STANDARD
TZOFFSETFROM:+0200
TZOFFSETTO:+0100
TZNAME:CET
DTSTART:20211031T010000
END:STANDARD
BEGIN:DAYLIGHT
TZOFFSETFROM:+0100
TZOFFSETTO:+0200
TZNAME:CEST
DTSTART:20220327T010000
END:DAYLIGHT
BEGIN:STANDARD
TZOFFSETFROM:+0200
TZOFFSETTO:+0100
TZNAME:CET
DTSTART:20221030T010000
END:STANDARD
BEGIN:DAYLIGHT
TZOFFSETFROM:+0100
TZOFFSETTO:+0200
TZNAME:CEST
DTSTART:20230326T010000
END:DAYLIGHT
BEGIN:STANDARD
TZOFFSETFROM:+0200
TZOFFSETTO:+0100
TZNAME:CET
DTSTART:20231029T010000
END:STANDARD
BEGIN:DAYLIGHT
TZOFFSETFROM:+0100
TZOFFSETTO:+0200
TZNAME:CEST
DTSTART:20240331T010000
END:DAYLIGHT
BEGIN:STANDARD
TZOFFSETFROM:+0200
TZOFFSETTO:+0100
TZNAME:CET
DTSTART:20241027T010000
END:STANDARD
BEGIN:DAYLIGHT
TZOFFSETFROM:+0100
TZOFFSETTO:+0200
TZNAME:CEST
DTSTART:20250330T010000
END:DAYLIGHT
BEGIN:STANDARD
TZOFFSETFROM:+0200
TZOFFSETTO:+0100
TZNAME:CET
DTSTART:20251026T010000
END:STANDARD
BEGIN:DAYLIGHT
TZOFFSETFROM:+0100
TZOFFSETTO:+0200
TZNAME:CEST
DTSTART:20260329T010000
END:DAYLIGHT
BEGIN:STANDARD
TZOFFSETFROM:+0200
TZOFFSETTO:+0100
TZNAME:CET
DTSTART:20261025T010000
END:STANDARD
END:VTIMEZONE
BEGIN:VEVENT
DTSTART;VALUE=DATE:20210101
DTEND;VALUE=DATE:20210102
DTSTAMP:20260425T211924
CREATED:20240517T105630Z
LAST-MODIFIED:20240610T120221Z
UID:10018077-1609459200-1609545599@staging.turismodecantabria.eurocastaliahost4.com
SUMMARY:Surf en el Parque Natural de Oyambre
DESCRIPTION:Más información y reservas en surf@oyambresurf.com o en el teléfono 666495457 \nDisfruta el surf en Cantabria\, sin ir más lejos \n 
URL:https://staging.turismodecantabria.eurocastaliahost4.com/proximamente-evento/surf-en-el-parque-natural-de-oyambre/
LOCATION:Saja-Nansa
CATEGORIES:Todo el año
ATTACH;FMTTYPE=image/jpeg:https://staging.turismodecantabria.eurocastaliahost4.com/wp-content/uploads/2024/02/b3675038-c391-e641-8591-a0c66fada9b2.jpg
END:VEVENT
BEGIN:VEVENT
DTSTART;VALUE=DATE:20220702
DTEND;VALUE=DATE:20220704
DTSTAMP:20260425T211924
CREATED:20231213T160620Z
LAST-MODIFIED:20240610T120235Z
UID:10014673-1656720000-1656892799@staging.turismodecantabria.eurocastaliahost4.com
SUMMARY:El piano de los mares
DESCRIPTION:Ananda Sukarlan es el primer pianista clásico de Asia que registra su trabajo en la NFT Piano Competition y se sube a bordo del pianO de los mares para ofrecer tan solo dos conciertos únicos en Europa. Con Ananda Sukarlan (piano). Y también con Xavier Nageotte (navegación)\, Léo Moreau (sonido)\, Voël Martin (dirección) y Mónica Cofiño (acogida). \nMás información y entradas en la web oficial \nDisfruta la cultura en Cantabria\, + x descubrir
URL:https://staging.turismodecantabria.eurocastaliahost4.com/proximamente-evento/el-piano-de-los-mares/
LOCATION:Saja-Nansa
CATEGORIES:Actividades con niños,Espectáculos
ATTACH;FMTTYPE=image/jpeg:https://staging.turismodecantabria.eurocastaliahost4.com/wp-content/uploads/2023/04/3c75fef7-298d-4f66-757a-eb6606b2c1f7-0vgd0h.tmp-.jpg
END:VEVENT
BEGIN:VEVENT
DTSTART;VALUE=DATE:20220711
DTEND;VALUE=DATE:20220712
DTSTAMP:20260425T211924
CREATED:20231213T160653Z
LAST-MODIFIED:20240610T120239Z
UID:10014698-1657497600-1657583999@staging.turismodecantabria.eurocastaliahost4.com
SUMMARY:Yoga dinámico en la playa
DESCRIPTION:¿Has pensado alguna vez en trasladar tu práctica de yoga a la playa? ¿te imaginas practicar frente al mar\, al amanecer o atardecer\, con amigos\, familia….\, dejándote llevar por el sonido de las olas\, la brisa del mar\, la suavidad de la arena en tus pies…? El yoga es una disciplina con un sinfín de beneficios a nivel físico\, mental y emocional que seguro ya conoces y por eso es ideal practicarlo (también) cuando estamos de vacaciones. En colaboración con el Centro Kiram Yoga. \nMás información y reservas en la web oficial \nDisfruta el deporte en Cantabria\, + x descubrir
URL:https://staging.turismodecantabria.eurocastaliahost4.com/proximamente-evento/yoga-dinamico-en-la-playa/
LOCATION:Saja-Nansa
CATEGORIES:Deportes
ATTACH;FMTTYPE=image/jpeg:https://staging.turismodecantabria.eurocastaliahost4.com/wp-content/uploads/2023/04/80859a2e-b64c-10d4-d4bb-939ddb8a08b8-vxk7ui.tmp-.jpg
END:VEVENT
BEGIN:VEVENT
DTSTART;VALUE=DATE:20220802
DTEND;VALUE=DATE:20220803
DTSTAMP:20260425T211924
CREATED:20231213T160905Z
LAST-MODIFIED:20240610T120244Z
UID:10014789-1659398400-1659484799@staging.turismodecantabria.eurocastaliahost4.com
SUMMARY:Yoga dinámico en la playa
DESCRIPTION:¿Has pensado alguna vez en trasladar tu práctica de yoga a la playa? ¿te imaginas practicar frente al mar\, al amanecer o atardecer\, con amigos\, familia….\, dejándote llevar por el sonido de las olas\, la brisa del mar\, la suavidad de la arena en tus pies…? El yoga es una disciplina con un sinfín de beneficios a nivel físico\, mental y emocional que seguro ya conoces y por eso es ideal practicarlo (también) cuando estamos de vacaciones. En colaboración con el Centro Kiram Yoga. \nMás información y reservas en la web oficial \nDisfruta el deporte en Cantabria\, + x descubrir
URL:https://staging.turismodecantabria.eurocastaliahost4.com/proximamente-evento/yoga-dinamico-en-la-playa-2/
LOCATION:Saja-Nansa
CATEGORIES:Deportes
ATTACH;FMTTYPE=image/jpeg:https://staging.turismodecantabria.eurocastaliahost4.com/wp-content/uploads/2023/04/1c67d6f1-b600-894c-d87b-0ebcc7f5806d-dseyvv.tmp-.jpg
END:VEVENT
BEGIN:VEVENT
DTSTART;VALUE=DATE:20230826
DTEND;VALUE=DATE:20230827
DTSTAMP:20260425T211924
CREATED:20231214T110454Z
LAST-MODIFIED:20240610T120228Z
UID:10016369-1693008000-1693094399@staging.turismodecantabria.eurocastaliahost4.com
SUMMARY:Eliminación de residuos playa de Somo
DESCRIPTION:Con esta actividad los voluntarios podrán ser conscientes de la cantidad de residuos que generamos en zonas tan antropizadas y a la vez tan vulnerables como son las playas. Es una playa muy explotada como uso recreativo a pesar de ser un lugar protegido\, ZEC. Analizaremos las nuevas restricciones de uso de plástico de un solo uso\, el problema de los vertidos ilegales que afectan a esta zona y de los nuevos residuos generados por el COVID 19. \nMás información\, horarios y reservas en la web oficial \nDisfruta la naturaleza en Cantabria\, + x descubrir
URL:https://staging.turismodecantabria.eurocastaliahost4.com/proximamente-evento/eliminacion-de-residuos-playa-de-somo/
LOCATION:Saja-Nansa
CATEGORIES:Actividades con niños,Naturaleza
ATTACH;FMTTYPE=image/jpeg:https://staging.turismodecantabria.eurocastaliahost4.com/wp-content/uploads/2023/12/dcead733-38c5-4ef9-1aee-8f6333965bc2-rqgc2q.tmp-.jpg
END:VEVENT
BEGIN:VEVENT
DTSTART;VALUE=DATE:20240101
DTEND;VALUE=DATE:20250101
DTSTAMP:20260425T211924
CREATED:20240517T105552Z
LAST-MODIFIED:20240610T120212Z
UID:10017919-1704067200-1735689599@staging.turismodecantabria.eurocastaliahost4.com
SUMMARY:Clases de surf en Merón
DESCRIPTION:Clases de surf de iniciación y perfeccionamiento a partir de 7 años \nMás información y reservas en escuelabuenaonda@hotmail.com y en el teléfono 646 554 053 \nDisfruta el surf en Cantabria\, + x descubrir \n 
URL:https://staging.turismodecantabria.eurocastaliahost4.com/proximamente-evento/clases-de-surf-en-meron/
LOCATION:San Vicente de la Barquera\, San Vicente de la Barquera\, Saja-Nansa
CATEGORIES:Actividades con niños,Deportes,Experiencias,Todo el año
ATTACH;FMTTYPE=image/jpeg:https://staging.turismodecantabria.eurocastaliahost4.com/wp-content/uploads/2023/12/218106dc-12e2-bb0b-f565-57e6a35e22cc.jpg
END:VEVENT
BEGIN:VEVENT
DTSTART;VALUE=DATE:20260208
DTEND;VALUE=DATE:20260209
DTSTAMP:20260425T211924
CREATED:20260206T094124Z
LAST-MODIFIED:20260206T094124Z
UID:10020787-1770508800-1770595199@staging.turismodecantabria.eurocastaliahost4.com
SUMMARY:Los microplásticos\, un enemigo invisible en la playa de Oyambre
DESCRIPTION:Realización de un taller en la playa de Oyambre (Valdáliga) para profundizar en la problemática de los microplásticos. Durante el taller se hará una batida por la playa para recoger todos los microplásticos que sea posible y\, a continuación\, clasificar y analizar los residuos recogidos\, en base a su composición y abundancia y deducir su posible procedencia e impacto sobre el ecosistema marino y los organismos que lo habitan. Terminaremos con una reflexión sobre los cambios de comportamiento que nosotros\, como parte de la sociedad\, debemos incorporar en nuestra vida cotidiana para reducir la generación y el impacto de los microplásticos sobre el medio ambiente marino. \nMás información en la web oficial \nLa naturaleza en Cantabria\, Apetece
URL:https://staging.turismodecantabria.eurocastaliahost4.com/proximamente-evento/los-microplasticos-un-enemigo-invisible-en-la-playa-de-oyambre/
LOCATION:Valdáliga\, Valdáliga\, Saja-Nansa
CATEGORIES:Naturaleza
ATTACH;FMTTYPE=image/jpeg:https://staging.turismodecantabria.eurocastaliahost4.com/wp-content/uploads/2026/02/fotografia-cartel.jpg
END:VEVENT
END:VCALENDAR