BEGIN:VCALENDAR
VERSION:2.0
PRODID:-//Turismo de Cantabria - ECPv6.12.0.1//NONSGML v1.0//EN
CALSCALE:GREGORIAN
METHOD:PUBLISH
X-WR-CALNAME:Turismo de Cantabria
X-ORIGINAL-URL:https://staging.turismodecantabria.eurocastaliahost4.com
X-WR-CALDESC:Eventos para Turismo de Cantabria
REFRESH-INTERVAL;VALUE=DURATION:PT1H
X-Robots-Tag:noindex
X-PUBLISHED-TTL:PT1H
BEGIN:VTIMEZONE
TZID:Europe/Madrid
BEGIN:DAYLIGHT
TZOFFSETFROM:+0100
TZOFFSETTO:+0200
TZNAME:CEST
DTSTART:20250330T010000
END:DAYLIGHT
BEGIN:STANDARD
TZOFFSETFROM:+0200
TZOFFSETTO:+0100
TZNAME:CET
DTSTART:20251026T010000
END:STANDARD
END:VTIMEZONE
BEGIN:VEVENT
DTSTART;TZID=Europe/Madrid:20250823T080000
DTEND;TZID=Europe/Madrid:20250831T170000
DTSTAMP:20260423T214138
CREATED:20250820T093032Z
LAST-MODIFIED:20250820T093032Z
UID:10020374-1755936000-1756659600@staging.turismodecantabria.eurocastaliahost4.com
SUMMARY:Team Falck Motor Stunt
DESCRIPTION: ¡Llega a Maliaño el espectáculo del año!\nPrepárate para vibrar con el FALCK  MOTOR SHOW \nCoches extremos\, motos acrobáticas\, camiones monstruo y un espectáculo que te dejará sin aliento. \nExplanada Punto Limpio Maliaño\nA las 20:30 h \nMás información en la web oficial \nMaliaño en Cantabria\, Apetece
URL:https://staging.turismodecantabria.eurocastaliahost4.com/proximamente-evento/team-falck-motor-stunt/
LOCATION:Camargo\, Camargo\, Santander
CATEGORIES:Espectáculos
ATTACH;FMTTYPE=image/jpeg:https://staging.turismodecantabria.eurocastaliahost4.com/wp-content/uploads/2025/08/team-falck-motor-stunt-e1755682019933.jpeg
END:VEVENT
END:VCALENDAR