BEGIN:VCALENDAR
VERSION:2.0
PRODID:-//Turismo de Cantabria - ECPv6.12.0.1//NONSGML v1.0//EN
CALSCALE:GREGORIAN
METHOD:PUBLISH
X-WR-CALNAME:Turismo de Cantabria
X-ORIGINAL-URL:https://staging.turismodecantabria.eurocastaliahost4.com
X-WR-CALDESC:Eventos para Turismo de Cantabria
REFRESH-INTERVAL;VALUE=DURATION:PT1H
X-Robots-Tag:noindex
X-PUBLISHED-TTL:PT1H
BEGIN:VTIMEZONE
TZID:Europe/Madrid
BEGIN:DAYLIGHT
TZOFFSETFROM:+0100
TZOFFSETTO:+0200
TZNAME:CEST
DTSTART:20250330T010000
END:DAYLIGHT
BEGIN:STANDARD
TZOFFSETFROM:+0200
TZOFFSETTO:+0100
TZNAME:CET
DTSTART:20251026T010000
END:STANDARD
END:VTIMEZONE
BEGIN:VEVENT
DTSTART;TZID=Europe/Madrid:20250618T080000
DTEND;TZID=Europe/Madrid:20250618T170000
DTSTAMP:20260424T001122
CREATED:20250611T131314Z
LAST-MODIFIED:20250611T131314Z
UID:10020206-1750233600-1750266000@staging.turismodecantabria.eurocastaliahost4.com
SUMMARY:Ruta ojos del diablo en Liendo
DESCRIPTION:Acompáñanos a alcanzar uno de los miradores naturales más espectaculares del Cantábrico\, con esta actividad gratuita. \nAnímate e inscríbete: 942 627 012 – 695 599 753 o en puntosinfo@municipiossostenibles.com \nLa naturaleza en Cantabria\, Apetece
URL:https://staging.turismodecantabria.eurocastaliahost4.com/proximamente-evento/ruta-ojos-del-diablo-en-liendo/
LOCATION:Liendo\, Liendo\, Asón-Agüera
CATEGORIES:Naturaleza
ATTACH;FMTTYPE=image/jpeg:https://staging.turismodecantabria.eurocastaliahost4.com/wp-content/uploads/2025/06/ojos-diablo-e1749647514735.jpg
END:VEVENT
END:VCALENDAR