BEGIN:VCALENDAR
VERSION:2.0
PRODID:-//Turismo de Cantabria - ECPv6.12.0.1//NONSGML v1.0//EN
CALSCALE:GREGORIAN
METHOD:PUBLISH
X-WR-CALNAME:Turismo de Cantabria
X-ORIGINAL-URL:https://staging.turismodecantabria.eurocastaliahost4.com
X-WR-CALDESC:Eventos para Turismo de Cantabria
REFRESH-INTERVAL;VALUE=DURATION:PT1H
X-Robots-Tag:noindex
X-PUBLISHED-TTL:PT1H
BEGIN:VTIMEZONE
TZID:Europe/Madrid
BEGIN:DAYLIGHT
TZOFFSETFROM:+0100
TZOFFSETTO:+0200
TZNAME:CEST
DTSTART:20180325T010000
END:DAYLIGHT
BEGIN:STANDARD
TZOFFSETFROM:+0200
TZOFFSETTO:+0100
TZNAME:CET
DTSTART:20181028T010000
END:STANDARD
BEGIN:DAYLIGHT
TZOFFSETFROM:+0100
TZOFFSETTO:+0200
TZNAME:CEST
DTSTART:20190331T010000
END:DAYLIGHT
BEGIN:STANDARD
TZOFFSETFROM:+0200
TZOFFSETTO:+0100
TZNAME:CET
DTSTART:20191027T010000
END:STANDARD
BEGIN:DAYLIGHT
TZOFFSETFROM:+0100
TZOFFSETTO:+0200
TZNAME:CEST
DTSTART:20200329T010000
END:DAYLIGHT
BEGIN:STANDARD
TZOFFSETFROM:+0200
TZOFFSETTO:+0100
TZNAME:CET
DTSTART:20201025T010000
END:STANDARD
BEGIN:DAYLIGHT
TZOFFSETFROM:+0100
TZOFFSETTO:+0200
TZNAME:CEST
DTSTART:20210328T010000
END:DAYLIGHT
BEGIN:STANDARD
TZOFFSETFROM:+0200
TZOFFSETTO:+0100
TZNAME:CET
DTSTART:20211031T010000
END:STANDARD
BEGIN:DAYLIGHT
TZOFFSETFROM:+0100
TZOFFSETTO:+0200
TZNAME:CEST
DTSTART:20220327T010000
END:DAYLIGHT
BEGIN:STANDARD
TZOFFSETFROM:+0200
TZOFFSETTO:+0100
TZNAME:CET
DTSTART:20221030T010000
END:STANDARD
BEGIN:DAYLIGHT
TZOFFSETFROM:+0100
TZOFFSETTO:+0200
TZNAME:CEST
DTSTART:20230326T010000
END:DAYLIGHT
BEGIN:STANDARD
TZOFFSETFROM:+0200
TZOFFSETTO:+0100
TZNAME:CET
DTSTART:20231029T010000
END:STANDARD
BEGIN:DAYLIGHT
TZOFFSETFROM:+0100
TZOFFSETTO:+0200
TZNAME:CEST
DTSTART:20240331T010000
END:DAYLIGHT
BEGIN:STANDARD
TZOFFSETFROM:+0200
TZOFFSETTO:+0100
TZNAME:CET
DTSTART:20241027T010000
END:STANDARD
BEGIN:DAYLIGHT
TZOFFSETFROM:+0100
TZOFFSETTO:+0200
TZNAME:CEST
DTSTART:20250330T010000
END:DAYLIGHT
BEGIN:STANDARD
TZOFFSETFROM:+0200
TZOFFSETTO:+0100
TZNAME:CET
DTSTART:20251026T010000
END:STANDARD
END:VTIMEZONE
BEGIN:VEVENT
DTSTART;VALUE=DATE:20180619
DTEND;VALUE=DATE:20181231
DTSTAMP:20260422T102049
CREATED:20240517T105720Z
LAST-MODIFIED:20240610T110719Z
UID:10018133-1529366400-1546214399@staging.turismodecantabria.eurocastaliahost4.com
SUMMARY:Disfruta el Alto Besaya en bicicleta
DESCRIPTION:Para aprovechar la infinidad de caminos y rutas que nos atraviesan\, nos rodean o simplemente  nos acercan de una localidad a otra por caminos tradicionales sin apenas coches\, os ofrecemos la posibilidad de recorrerlos en unas cómodas y modernas bicicletas eléctricas que Te sorprenderán\, pues  tu decides el grado de esfuerzo. \nMás información y reservas en www.ochohermanas.com y en el teléfono 942826587 \nDisfruta las rutas en bicicleta en Besaya \n 
URL:https://staging.turismodecantabria.eurocastaliahost4.com/proximamente-evento/disfruta-el-alto-besaya-en-bicicleta/
LOCATION:Besaya
CATEGORIES:Todo el año
ATTACH;FMTTYPE=image/jpeg:https://staging.turismodecantabria.eurocastaliahost4.com/wp-content/uploads/2023/05/584ebd45-1765-9c93-7f07-912bc62e6927.jpg
END:VEVENT
BEGIN:VEVENT
DTSTART;VALUE=DATE:20230715
DTEND;VALUE=DATE:20230717
DTSTAMP:20260422T102049
CREATED:20231214T105916Z
LAST-MODIFIED:20240605T092047Z
UID:10016143-1689379200-1689551999@staging.turismodecantabria.eurocastaliahost4.com
SUMMARY:Fiestas de la Virgen del Carmen en Las Fraguas
DESCRIPTION:Puedes ver el programa completo en el fichero adjunto \nDisfruta las fiestas en Cantabria\, + x descubrir
URL:https://staging.turismodecantabria.eurocastaliahost4.com/proximamente-evento/fiestas-de-la-virgen-del-carmen-en-las-fraguas/
LOCATION:Besaya
CATEGORIES:Fiestas y ferias
ATTACH;FMTTYPE=image/jpeg:https://staging.turismodecantabria.eurocastaliahost4.com/wp-content/uploads/2023/12/fc5397b0-9349-1f45-4d1c-fc69516eed67-muulhu.tmp-.jpg
END:VEVENT
BEGIN:VEVENT
DTSTART;TZID=Europe/Madrid:20240707T203000
DTEND;TZID=Europe/Madrid:20240716T230000
DTSTAMP:20260422T102049
CREATED:20240710T074332Z
LAST-MODIFIED:20260225T145228Z
UID:10018441-1720384200-1721170800@staging.turismodecantabria.eurocastaliahost4.com
SUMMARY:Fiestas del Carmen en Las Fraguas
DESCRIPTION:La localidad de Arenas de Iguña celebra las Fiestas del Carmen en Las Fraguas\, en las que destaca la Procesión de la Luz. \nEsta Fiesta de Interés Turístico Regional se celebra en el pueblo de Las Fraguas cada noche del 15 de julio desde hace más de 200 años en honor a la Virgen del Carmen. \nLa procesión reúne cada año a miles de visitantes que acuden a pie desde lugares vecinos para asistir a la vistosa procesión\, en la cual se desconecta el alumbrado público y el pueblo queda iluminado únicamente por velas que los vecinos colocan tanto en la vía pública como en sus casas\, ventanas y balcones; y también por otros dispositivos electrónicos artificiales que acompañan a la Virgen por las calles de Las Fraguas. \n \nEste verano\, Cantabria apetece.
URL:https://staging.turismodecantabria.eurocastaliahost4.com/proximamente-evento/fiestas-del-carmen-en-las-fraguas/
LOCATION:Arenas de Iguña\, Arenas de Iguña\, Besaya
CATEGORIES:Fiestas y ferias
ATTACH;FMTTYPE=image/jpeg:https://staging.turismodecantabria.eurocastaliahost4.com/wp-content/uploads/2024/07/fiestas-de-el-carmen-en-las-fraguas.jpg
END:VEVENT
BEGIN:VEVENT
DTSTART;TZID=Europe/Madrid:20250708T080000
DTEND;TZID=Europe/Madrid:20250716T170000
DTSTAMP:20260422T102049
CREATED:20250708T104202Z
LAST-MODIFIED:20260225T145605Z
UID:10020280-1751961600-1752685200@staging.turismodecantabria.eurocastaliahost4.com
SUMMARY:Fiestas de la Virgen del Carmen en Las Fraguas
DESCRIPTION:La procesión reúne cada año a miles de visitantes que acuden a pie desde lugares vecinos para asistir a la vistosa procesión\, en la cual se desconecta el alumbrado público y el pueblo queda iluminado únicamente por velas que los vecinos colocan tanto en la vía pública como en sus casas\, ventanas y balcones; y también por otros dispositivos electrónicos artificiales que acompañan a la Virgen por las calles de Las Fraguas. \nPuedes ver el programa completo en el fichero adjunto \nArenas de Iguña en Cantabria\, Apetece
URL:https://staging.turismodecantabria.eurocastaliahost4.com/proximamente-evento/fiestas-de-la-virgen-del-carmen-en-las-fraguas-2/
LOCATION:Arenas de Iguña\, Arenas de Iguña\, Besaya
CATEGORIES:Fiestas y ferias
ATTACH;FMTTYPE=image/jpeg:https://staging.turismodecantabria.eurocastaliahost4.com/wp-content/uploads/2025/07/virgen-del-carmen-en-las-fraguas-e1751971131252.jpg
END:VEVENT
END:VCALENDAR