BEGIN:VCALENDAR
VERSION:2.0
PRODID:-//Turismo de Cantabria - ECPv6.12.0.1//NONSGML v1.0//EN
CALSCALE:GREGORIAN
METHOD:PUBLISH
X-WR-CALNAME:Turismo de Cantabria
X-ORIGINAL-URL:https://staging.turismodecantabria.eurocastaliahost4.com
X-WR-CALDESC:Eventos para Turismo de Cantabria
REFRESH-INTERVAL;VALUE=DURATION:PT1H
X-Robots-Tag:noindex
X-PUBLISHED-TTL:PT1H
BEGIN:VTIMEZONE
TZID:Europe/Madrid
BEGIN:DAYLIGHT
TZOFFSETFROM:+0100
TZOFFSETTO:+0200
TZNAME:CEST
DTSTART:20250330T010000
END:DAYLIGHT
BEGIN:STANDARD
TZOFFSETFROM:+0200
TZOFFSETTO:+0100
TZNAME:CET
DTSTART:20251026T010000
END:STANDARD
END:VTIMEZONE
BEGIN:VEVENT
DTSTART;TZID=Europe/Madrid:20250309T170000
DTEND;TZID=Europe/Madrid:20250309T193000
DTSTAMP:20260419T231855
CREATED:20250304T090415Z
LAST-MODIFIED:20250304T090415Z
UID:10019903-1741539600-1741548600@staging.turismodecantabria.eurocastaliahost4.com
SUMMARY:La fábrica de las maravillas
DESCRIPTION:Sigamos a los duendes\, volvamos a jugar\, volvamos a ser niños\, volvamos a creer\, volvamos a soñar\, volvamos a apasionarnos por la magia de la vida y la naturaleza\, porque es mucho más que aquello que nos han hecho creer. Ahora es tu turno\, es el momento de que decidas si quieres ir en busca de esa magia que está alrededor de todo aquello que nos rodea\, porque si de verdad crees que estás dispuesto a ir en busca de esa magia estarás destinada a encontrarla. \nCómo cada mañana Puc se dispone a trabajar en la fábrica de las maravillas: él es un empleado eficiente\, delicado y apasionado por su trabajo\, aunque un poco torpe y sobrepasado por su trabajo. Sin embargo un día recibe un encargo especial\, el Villano Ibérico quiere robar toda la magia y dejar a todo el mundo sin ella. ¿Se convertirá nuestro trabajador en un superhéroe por accidente y acabará con los planes maléficos de esta horripilante criatura devolviendo la magia al planeta? \nMás información y entradas en comunicacioncdat@gmail.com y en el teléfono (+34) 626322210 \nLa cultura en Cantabria\, Apetece
URL:https://staging.turismodecantabria.eurocastaliahost4.com/proximamente-evento/la-fabrica-de-las-maravillas/
LOCATION:Santander\, Santander
CATEGORIES:Espectáculos
ATTACH;FMTTYPE=image/jpeg:https://staging.turismodecantabria.eurocastaliahost4.com/wp-content/uploads/2025/03/la-fabrica-de-las-maravillas-javier-ariza.jpg
END:VEVENT
END:VCALENDAR