BEGIN:VCALENDAR
VERSION:2.0
PRODID:-//Turismo de Cantabria - ECPv6.12.0.1//NONSGML v1.0//EN
CALSCALE:GREGORIAN
METHOD:PUBLISH
X-WR-CALNAME:Turismo de Cantabria
X-ORIGINAL-URL:https://staging.turismodecantabria.eurocastaliahost4.com
X-WR-CALDESC:Eventos para Turismo de Cantabria
REFRESH-INTERVAL;VALUE=DURATION:PT1H
X-Robots-Tag:noindex
X-PUBLISHED-TTL:PT1H
BEGIN:VTIMEZONE
TZID:Europe/Madrid
BEGIN:DAYLIGHT
TZOFFSETFROM:+0100
TZOFFSETTO:+0200
TZNAME:CEST
DTSTART:20250330T010000
END:DAYLIGHT
BEGIN:STANDARD
TZOFFSETFROM:+0200
TZOFFSETTO:+0100
TZNAME:CET
DTSTART:20251026T010000
END:STANDARD
END:VTIMEZONE
BEGIN:VEVENT
DTSTART;TZID=Europe/Madrid:20250209T123000
DTEND;TZID=Europe/Madrid:20250209T183000
DTSTAMP:20260420T060716
CREATED:20250203T125332Z
LAST-MODIFIED:20250203T125332Z
UID:10019774-1739104200-1739125800@staging.turismodecantabria.eurocastaliahost4.com
SUMMARY:Grúmic\, un sueño de otoño
DESCRIPTION:Muchos dicen que el otoño llega porque el Sol y la Tierra se mueven y cambian sus posiciones en el universo. El Sol se aleja de la Tierra y\, por eso\, hace más frío y se hace de noche más temprano. Pero\, ¿de verdad crees que es así? Grúmic hace una nueva versión del otoño: se trata de un duende muy espabilado que dirige todos los elementos de la naturaleza para que llegue el otoño. \nCon Grúmic está su amiga Nona. Ambos se encuentran un buen día cuando Nona no tiene ganas de ir a la escuela. Grúmic le revela un gran secreto: que él es el encargado de organizar el otoño. Hace que lleguen las lluvias y los vientos\, pinta el paisaje con cientos de pinturas de miles de tonalidades marrones\, ordena que las hojas de los árboles caigan al suelo para formar alfombras naturales\, y hace muchas más actividades que llenan la agenda del duende durante todos estos meses de otoño. \nGrúmic es el relato del retorno a la infancia y de cómo un niño de cinco años debe entender la necesidad de aprender para poder alcanzar sus objetivos. Una propuesta que combina objetos y canciones\, en la que estos elementos sumados al texto\, la luz y la escenografía apoyan una historia llena de fantasía. \nMás información en el 625959969 \nLa cultura en Cantabria\, Apetece
URL:https://staging.turismodecantabria.eurocastaliahost4.com/proximamente-evento/grumic-un-sueno-de-otono/
LOCATION:Santander\, Santander
CATEGORIES:Espectáculos
ATTACH;FMTTYPE=image/png:https://staging.turismodecantabria.eurocastaliahost4.com/wp-content/uploads/2025/02/grumic-768x475-1.png
END:VEVENT
END:VCALENDAR