BEGIN:VCALENDAR
VERSION:2.0
PRODID:-//Turismo de Cantabria - ECPv6.12.0.1//NONSGML v1.0//EN
CALSCALE:GREGORIAN
METHOD:PUBLISH
X-WR-CALNAME:Turismo de Cantabria
X-ORIGINAL-URL:https://staging.turismodecantabria.eurocastaliahost4.com
X-WR-CALDESC:Eventos para Turismo de Cantabria
REFRESH-INTERVAL;VALUE=DURATION:PT1H
X-Robots-Tag:noindex
X-PUBLISHED-TTL:PT1H
BEGIN:VTIMEZONE
TZID:Europe/Madrid
BEGIN:DAYLIGHT
TZOFFSETFROM:+0100
TZOFFSETTO:+0200
TZNAME:CEST
DTSTART:20250330T010000
END:DAYLIGHT
BEGIN:STANDARD
TZOFFSETFROM:+0200
TZOFFSETTO:+0100
TZNAME:CET
DTSTART:20251026T010000
END:STANDARD
END:VTIMEZONE
BEGIN:VEVENT
DTSTART;TZID=Europe/Madrid:20250202T113000
DTEND;TZID=Europe/Madrid:20250202T140000
DTSTAMP:20260423T122444
CREATED:20250130T110140Z
LAST-MODIFIED:20250130T110140Z
UID:10019745-1738495800-1738504800@staging.turismodecantabria.eurocastaliahost4.com
SUMMARY:Elvis show
DESCRIPTION:Juegos\, tattoos\, merchan\, actuaciones\, coreografías\, concursos\, todo en familia bajo las luces y el sonido de tu sala de conciertos. \nElvis Presley y Las Vegas se hacen protagonistas de una mañana llena de color y alegría. \nPrograma: \n11.30 Juegos e historia de Elvis \n12 horas Show ELVIS \n12:25 Descanso y concurso air guitar \n13 horas Show ELVIS \n13.30 Despedida \nEntradas en la web oficial \nLa cultura en Cantabria\, Apetece
URL:https://staging.turismodecantabria.eurocastaliahost4.com/proximamente-evento/elvis-show/
LOCATION:Santander\, Santander
CATEGORIES:Espectáculos
ATTACH;FMTTYPE=image/jpeg:https://staging.turismodecantabria.eurocastaliahost4.com/wp-content/uploads/2025/01/elvis.jpg
END:VEVENT
END:VCALENDAR