BEGIN:VCALENDAR
VERSION:2.0
PRODID:-//Turismo de Cantabria - ECPv6.12.0.1//NONSGML v1.0//EN
CALSCALE:GREGORIAN
METHOD:PUBLISH
X-WR-CALNAME:Turismo de Cantabria
X-ORIGINAL-URL:https://staging.turismodecantabria.eurocastaliahost4.com
X-WR-CALDESC:Eventos para Turismo de Cantabria
REFRESH-INTERVAL;VALUE=DURATION:PT1H
X-Robots-Tag:noindex
X-PUBLISHED-TTL:PT1H
BEGIN:VTIMEZONE
TZID:Europe/Madrid
BEGIN:DAYLIGHT
TZOFFSETFROM:+0100
TZOFFSETTO:+0200
TZNAME:CEST
DTSTART:20250330T010000
END:DAYLIGHT
BEGIN:STANDARD
TZOFFSETFROM:+0200
TZOFFSETTO:+0100
TZNAME:CET
DTSTART:20251026T010000
END:STANDARD
END:VTIMEZONE
BEGIN:VEVENT
DTSTART;TZID=Europe/Madrid:20250118T200000
DTEND;TZID=Europe/Madrid:20250118T210000
DTSTAMP:20260424T164856
CREATED:20250110T114221Z
LAST-MODIFIED:20250110T114221Z
UID:10019703-1737230400-1737234000@staging.turismodecantabria.eurocastaliahost4.com
SUMMARY:La elección de Roger Bernat
DESCRIPTION:“En un mundo en el que la Participación es un hecho pero casi nunca es real\, el teatro asume la tarea nada fácil de poner en escena una participación que consiga ser real”. \n¿Cómo se hace la cultura? ¿Hasta qué punto la programación es una forma de dramaturgia? Son solo dos de las muchas preguntas que plantea Roger Bernat en su nuevo proyecto. Un dispositivo que escenifica los procesos de decisión y selección\, la turbulencia dialéctica que se esconde detrás del trabajo de una dirección artística. \nEn La elección\, el público ocupa el lugar de la dirección artística del teatro para enfrentarse a la difícil tarea de elegir. Divididos en tres salas\, cada grupo de espectadores hace el visionado de varios trailers\, participa en una serie de debates y\, finalmente\, elige un espectáculo. \nEl resultado es una puesta en escena donde se reproduce\, testimonia y tergiversa en torno a esta experiencia\, relatando otra posibilidad de programación cultural: aquella en la que la gente toma la palabra. El público es llamado a experimentar los mecanismos de funcionamiento de una dirección artística: ver\, discutir\, elegir. Una ficción que produce efectos en la realidad cultural de la propia ciudad. \nMás información y entradas en la web oficial \nLa cultura en Cantabria\, Apetece \n 
URL:https://staging.turismodecantabria.eurocastaliahost4.com/proximamente-evento/la-eleccion-de-roger-bernat/
LOCATION:Santander\, Santander
CATEGORIES:Espectáculos
ATTACH;FMTTYPE=image/jpeg:https://staging.turismodecantabria.eurocastaliahost4.com/wp-content/uploads/2025/01/la-eleccion-roger-bernat.jpg
END:VEVENT
END:VCALENDAR