BEGIN:VCALENDAR
VERSION:2.0
PRODID:-//Turismo de Cantabria - ECPv6.12.0.1//NONSGML v1.0//EN
CALSCALE:GREGORIAN
METHOD:PUBLISH
X-WR-CALNAME:Turismo de Cantabria
X-ORIGINAL-URL:https://staging.turismodecantabria.eurocastaliahost4.com
X-WR-CALDESC:Eventos para Turismo de Cantabria
REFRESH-INTERVAL;VALUE=DURATION:PT1H
X-Robots-Tag:noindex
X-PUBLISHED-TTL:PT1H
BEGIN:VTIMEZONE
TZID:Europe/Madrid
BEGIN:DAYLIGHT
TZOFFSETFROM:+0100
TZOFFSETTO:+0200
TZNAME:CEST
DTSTART:20250330T010000
END:DAYLIGHT
BEGIN:STANDARD
TZOFFSETFROM:+0200
TZOFFSETTO:+0100
TZNAME:CET
DTSTART:20251026T010000
END:STANDARD
END:VTIMEZONE
BEGIN:VEVENT
DTSTART;TZID=Europe/Madrid:20250110T203000
DTEND;TZID=Europe/Madrid:20250110T203000
DTSTAMP:20260424T222648
CREATED:20241226T112620Z
LAST-MODIFIED:20250107T094424Z
UID:10019689-1736541000-1736541000@staging.turismodecantabria.eurocastaliahost4.com
SUMMARY:Michael Jackson. Dancing Machine Tour
DESCRIPTION:Más información y entradas en la web oficial \nLa cultura en Cantabria\, Apetece
URL:https://staging.turismodecantabria.eurocastaliahost4.com/proximamente-evento/michael-jackson-dancing-machine-tour/
LOCATION:Santander\, Santander
CATEGORIES:Espectáculos
ATTACH;FMTTYPE=image/jpeg:https://staging.turismodecantabria.eurocastaliahost4.com/wp-content/uploads/2024/12/dancing-machine.jpg
END:VEVENT
END:VCALENDAR