BEGIN:VCALENDAR
VERSION:2.0
PRODID:-//Turismo de Cantabria - ECPv6.12.0.1//NONSGML v1.0//EN
CALSCALE:GREGORIAN
METHOD:PUBLISH
X-WR-CALNAME:Turismo de Cantabria
X-ORIGINAL-URL:https://staging.turismodecantabria.eurocastaliahost4.com
X-WR-CALDESC:Eventos para Turismo de Cantabria
REFRESH-INTERVAL;VALUE=DURATION:PT1H
X-Robots-Tag:noindex
X-PUBLISHED-TTL:PT1H
BEGIN:VTIMEZONE
TZID:Europe/Madrid
BEGIN:DAYLIGHT
TZOFFSETFROM:+0100
TZOFFSETTO:+0200
TZNAME:CEST
DTSTART:20250330T010000
END:DAYLIGHT
BEGIN:STANDARD
TZOFFSETFROM:+0200
TZOFFSETTO:+0100
TZNAME:CET
DTSTART:20251026T010000
END:STANDARD
END:VTIMEZONE
BEGIN:VEVENT
DTSTART;TZID=Europe/Madrid:20251224T150000
DTEND;TZID=Europe/Madrid:20251224T180000
DTSTAMP:20260424T233303
CREATED:20251210T074208Z
LAST-MODIFIED:20251210T074738Z
UID:10020676-1766588400-1766599200@staging.turismodecantabria.eurocastaliahost4.com
SUMMARY:Papá Noel visita El Soplao
DESCRIPTION:Hora: de 15:00 a 18:00 h\nInscripción obligatoria: presencial en las instalaciones\nAforo limitado: 75 niños\nAcceso por núcleos familiares (hermanos\, primos…) \nCada familia podrá acceder a un espacio habilitado para que los más pequeños hablen con él\, se hagan fotos\, y reciban un regalo de manos del propio Papá Noel. Al finalizar la visita\, se les entregará un diploma de buena conducta\, como recuerdo de este día tan especial. \nAdemás\, da habrá un buzón navideño para que los peques entreguen su carta a Papá Noel\, aunque no participen en el evento del día 24. \nPuedes consultar toda la información y los detalles para participar en la web oficial \nEl Soplao en Cantabria\, Apetece
URL:https://staging.turismodecantabria.eurocastaliahost4.com/proximamente-evento/papa-noel-visita-el-soplao/
LOCATION:Valdáliga\, Valdáliga\, Saja-Nansa
CATEGORIES:Navidad
ATTACH;FMTTYPE=image/jpeg:https://staging.turismodecantabria.eurocastaliahost4.com/wp-content/uploads/2025/12/papa-noel-en-el-soplao.jpg
END:VEVENT
END:VCALENDAR