BEGIN:VCALENDAR
VERSION:2.0
PRODID:-//Turismo de Cantabria - ECPv6.12.0.1//NONSGML v1.0//EN
CALSCALE:GREGORIAN
METHOD:PUBLISH
X-WR-CALNAME:Turismo de Cantabria
X-ORIGINAL-URL:https://staging.turismodecantabria.eurocastaliahost4.com
X-WR-CALDESC:Eventos para Turismo de Cantabria
REFRESH-INTERVAL;VALUE=DURATION:PT1H
X-Robots-Tag:noindex
X-PUBLISHED-TTL:PT1H
BEGIN:VTIMEZONE
TZID:Europe/Madrid
BEGIN:DAYLIGHT
TZOFFSETFROM:+0100
TZOFFSETTO:+0200
TZNAME:CEST
DTSTART:20210328T010000
END:DAYLIGHT
BEGIN:STANDARD
TZOFFSETFROM:+0200
TZOFFSETTO:+0100
TZNAME:CET
DTSTART:20211031T010000
END:STANDARD
BEGIN:DAYLIGHT
TZOFFSETFROM:+0100
TZOFFSETTO:+0200
TZNAME:CEST
DTSTART:20220327T010000
END:DAYLIGHT
BEGIN:STANDARD
TZOFFSETFROM:+0200
TZOFFSETTO:+0100
TZNAME:CET
DTSTART:20221030T010000
END:STANDARD
BEGIN:DAYLIGHT
TZOFFSETFROM:+0100
TZOFFSETTO:+0200
TZNAME:CEST
DTSTART:20230326T010000
END:DAYLIGHT
BEGIN:STANDARD
TZOFFSETFROM:+0200
TZOFFSETTO:+0100
TZNAME:CET
DTSTART:20231029T010000
END:STANDARD
BEGIN:DAYLIGHT
TZOFFSETFROM:+0100
TZOFFSETTO:+0200
TZNAME:CEST
DTSTART:20240331T010000
END:DAYLIGHT
BEGIN:STANDARD
TZOFFSETFROM:+0200
TZOFFSETTO:+0100
TZNAME:CET
DTSTART:20241027T010000
END:STANDARD
BEGIN:DAYLIGHT
TZOFFSETFROM:+0100
TZOFFSETTO:+0200
TZNAME:CEST
DTSTART:20250330T010000
END:DAYLIGHT
BEGIN:STANDARD
TZOFFSETFROM:+0200
TZOFFSETTO:+0100
TZNAME:CET
DTSTART:20251026T010000
END:STANDARD
END:VTIMEZONE
BEGIN:VEVENT
DTSTART;VALUE=DATE:20251129
DTEND;VALUE=DATE:20251222
DTSTAMP:20260423T205034
CREATED:20251126T115744Z
LAST-MODIFIED:20251217T090259Z
UID:10020652-1764374400-1766361599@staging.turismodecantabria.eurocastaliahost4.com
SUMMARY:Jornadas de divulgación del geoparque
DESCRIPTION:Estas actividades\, que se celebrarán del 29 de noviembre al 21 de diciembre\, representan una excelente oportunidad para acercar el Geoparque a la población local y poner en valor su riqueza natural y cultural a través de vuestras visitas. \nEstamos muy contentos de poder contar con vosotros en estas primeras jornadas del Geoparque Mundial UNESCO Costa Quebrada. Esperamos que esta sea la primera de muchas ediciones\, cada año más enriquecedoras y variadas. \nPuedes ver el programa completo en este enlace: jornadas_divulgacion_CQ \nInscripción \n👉 Web de inscripción a las actividades:\nhttps://geoparquecostaquebrada.com/jornadas-divulgacion/ \n👉 Formulario de inscripción directa:\nhttps://docs.google.com/forms/d/e/1FAIpQLSfbYOKJvhmEclfU2lmZ5gMcuFwBq5nv_EXq-ks31XT6I_7E0g/viewform \nEl Geoparque Costa Quebrada en Cantabria\, Apetece
URL:https://staging.turismodecantabria.eurocastaliahost4.com/proximamente-evento/jornadas-de-divulgacion-del-geoparque/
LOCATION:Cantabria
CATEGORIES:Naturaleza
ATTACH;FMTTYPE=image/jpeg:https://staging.turismodecantabria.eurocastaliahost4.com/wp-content/uploads/2025/11/jornadas-geoparque-e1765453264219.jpg
END:VEVENT
BEGIN:VEVENT
DTSTART;TZID=Europe/Madrid:20251028T080000
DTEND;TZID=Europe/Madrid:20251028T170000
DTSTAMP:20260423T205034
CREATED:20251022T070619Z
LAST-MODIFIED:20251022T070619Z
UID:10020523-1761638400-1761670800@staging.turismodecantabria.eurocastaliahost4.com
SUMMARY:Costa Quebrada\, una paleta de rocas y colores.
DESCRIPTION:Conoce los secretos que esconden las rocas de Costa Quebrada a través de talleres sensoriales y nuestra máquina del tiempo. \nMás información en la web oficial \nLa naturaleza en Cantabria\, Apetece
URL:https://staging.turismodecantabria.eurocastaliahost4.com/proximamente-evento/costa-quebrada-una-paleta-de-rocas-y-colores/
LOCATION:Torrelavega\, Torrelavega\, Besaya
CATEGORIES:Naturaleza
ATTACH;FMTTYPE=image/jpeg:https://staging.turismodecantabria.eurocastaliahost4.com/wp-content/uploads/2025/10/pozo-tremeo-fondo-uso-publico.jpg
END:VEVENT
BEGIN:VEVENT
DTSTART;VALUE=DATE:20250903
DTEND;VALUE=DATE:20250911
DTSTAMP:20260423T205034
CREATED:20250810T102717Z
LAST-MODIFIED:20250827T080302Z
UID:10018255-1756857600-1757548799@staging.turismodecantabria.eurocastaliahost4.com
SUMMARY:Historia de dos playas
DESCRIPTION:Esta ruta circular de 4 kilómetros\, adecuada para niños desde 5 años \nTendrá lugar todos los miércoles a las 17:30 horas \nLa naturaleza en Cantabria\, Apetece
URL:https://staging.turismodecantabria.eurocastaliahost4.com/proximamente-evento/historia-de-dos-playas-2/
LOCATION:Suances\, Suances\, Cantabria\, Suances\, Costa central
CATEGORIES:Naturaleza
ATTACH;FMTTYPE=image/jpeg:https://staging.turismodecantabria.eurocastaliahost4.com/wp-content/uploads/2024/06/historia-dos-playas-e1755770463792.jpg
END:VEVENT
BEGIN:VEVENT
DTSTART;VALUE=DATE:20241227
DTEND;VALUE=DATE:20241228
DTSTAMP:20260423T205034
CREATED:20240111T102116Z
LAST-MODIFIED:20241121T094238Z
UID:10017546-1735257600-1735343999@staging.turismodecantabria.eurocastaliahost4.com
SUMMARY:La piedra domada
DESCRIPTION:Esta ruta de 4 horas de duración\, lineal y sin desnivel\, pueden hacerla niños desde 5 años  \nMás información y reservas en la web oficial \nDisfruta la naturaleza en Cantabria\, + x descubrir
URL:https://staging.turismodecantabria.eurocastaliahost4.com/proximamente-evento/la-piedra-domada-4/
LOCATION:Santander\, Santander
CATEGORIES:Actividades con niños,Naturaleza,Visitas guiadas
ATTACH;FMTTYPE=image/jpeg:https://staging.turismodecantabria.eurocastaliahost4.com/wp-content/uploads/2024/01/76ce42fb-f0a9-2b84-0b47-6a4fa30e6917-j7vaph.tmp-.jpg
END:VEVENT
BEGIN:VEVENT
DTSTART;TZID=Europe/Madrid:20241122T100000
DTEND;TZID=Europe/Madrid:20250331T120000
DTSTAMP:20260423T205034
CREATED:20241112T111335Z
LAST-MODIFIED:20250115T145625Z
UID:10018310-1732269600-1743422400@staging.turismodecantabria.eurocastaliahost4.com
SUMMARY:Costa Quebrada desde el mar
DESCRIPTION:Este paseo en barco en la costa santanderina\, consiste en un itinerario guiado de 1 h y 30 min.\, que interpreta los cimientos rocosos de una ciudad\, los avatares que cambiaron la historia de la Tierra\, los procesos que han dado lugar al paisaje de nuestro presente\, y la acción humana que lo ha modelado. \nRecorre el frente marítimo de la ciudad de Santander: Punta de San Martín\, Gamazo\, Playas de los Peligros\, La Magdalena y Bikinis\, Isla de La Torre\, Islote de La Horadada\, Faro de la Cerda\, Península de La Magdalena\, Playas de El Sardinero y Los Molinucos\, Cabo Menor\, Playa de Mataleñas\, Cabo Mayor\, rodea la Isla de Mouro\, y el Islote de la Corbera\, y discurre a lo largo del Complejo Dunar de Loredo –Somo- El Puntal\, para finalizar en el Estuario del Miera y regreso a Puerto Chico. \nMás información en la web oficial y en las imágenes adjuntas \nCosta Quebrada en Cantabria\, Apetece \n 
URL:https://staging.turismodecantabria.eurocastaliahost4.com/proximamente-evento/costa-quebrada-desde-el-mar-2/
LOCATION:Cantabria
CATEGORIES:Naturaleza
ATTACH;FMTTYPE=image/jpeg:https://staging.turismodecantabria.eurocastaliahost4.com/wp-content/uploads/2024/07/costa-quebrada-desde-el-mar.jpg
END:VEVENT
BEGIN:VEVENT
DTSTART;VALUE=DATE:20240615
DTEND;VALUE=DATE:20240616
DTSTAMP:20260423T205034
CREATED:20240502T075843Z
LAST-MODIFIED:20240516T144031Z
UID:10017682-1718409600-1718495999@staging.turismodecantabria.eurocastaliahost4.com
SUMMARY:Altamira y la geología
DESCRIPTION:En esta ocasión\, las Jornadas tendrán como objetivo seguir acercando a la sociedad la Arqueología del S XXI\, en concreto\, la amplia gama de ciencias auxiliares de las que se vale para descifrar el pasado\, procedentes de la Biología\, de la Química o de la Geología\, entre otras. Será en esta última\, la Geología\, en la que pondremos el foco durante las jornadas de 2024 en el Museo de Altamira. \nEsto se materializará gracias a la colaboración con el Geoparque Aspirante Costa Quebrada que llevarán a cabo una visita guiada sobre el paisaje geológico de Altamira. Además\, se presentará el Itinerario Geológico de Altamira. \nMás información en la web oficial \nDisfruta Santillana del Mar en Cantabria\, + x descubrir
URL:https://staging.turismodecantabria.eurocastaliahost4.com/proximamente-evento/altamira-y-la-geologia/
LOCATION:Santillana del Mar\, Santillana del Mar\, Santillana del Mar\, Costa central
CATEGORIES:Cultura,Naturaleza
ATTACH;FMTTYPE=image/jpeg:https://staging.turismodecantabria.eurocastaliahost4.com/wp-content/uploads/2024/05/jornadas-europeas-de-arqueologia.jpg
END:VEVENT
BEGIN:VEVENT
DTSTART;VALUE=DATE:20240330
DTEND;VALUE=DATE:20240331
DTSTAMP:20260423T205034
CREATED:20240305T151724Z
LAST-MODIFIED:20240610T092520Z
UID:10017222-1711756800-1711843199@staging.turismodecantabria.eurocastaliahost4.com
SUMMARY:De rituales y creencias
DESCRIPTION:El lugar de la virgen del Mar atrae la atención del ser humano desde tiempos muy distantes. En una pequeña área se concentran actividades tradicionales\, vestigios prehistóricos\, y una serie de elementos espirituales relacionados con la celebración de la vida y la muerte. \nMás información en la web oficial \nDisfruta Costa Quebrada en Cantabria\, + x descubrir
URL:https://staging.turismodecantabria.eurocastaliahost4.com/proximamente-evento/de-rituales-y-creencias-2/
LOCATION:Santander\, Santander
CATEGORIES:Naturaleza
ATTACH;FMTTYPE=image/jpeg:https://staging.turismodecantabria.eurocastaliahost4.com/wp-content/uploads/2023/12/a21475ee-3f3f-8375-7bfb-e371db9e0eba-i7bnjr.tmp-.jpg
END:VEVENT
BEGIN:VEVENT
DTSTART;VALUE=DATE:20240101
DTEND;VALUE=DATE:20250101
DTSTAMP:20260423T205034
CREATED:20240517T105545Z
LAST-MODIFIED:20240606T151452Z
UID:10017948-1704067200-1735689599@staging.turismodecantabria.eurocastaliahost4.com
SUMMARY:La Costa Quebrada desde el mar
DESCRIPTION:Navega con nuestro velero Klaudia\, de 15 metro de eslora\, con todas las comodidades de un crucero de altura: toldos para resguardarse de la lluvia y calefacción\, si nos acompañas en invierno\, o plataforma de baño y ducha en cubierta si lo haces en verano. \nDisfruta de un vermut o un blanco\, acompañado de un aperitivo\, y de un menú marinero de temporada. \nRecorre San Juan de la Canal\, Covachos y Arnía solo para ti y tu familia\, saliendo desde Santander\, lo que nos dará la oportunidad de recorrer la Bahía de Santander\, una de las más bonitas del mundo\, Cabo Mayor\, la Maruca y Virgen del Mar. Una experiencia de 6 horas que recordarás toda la vida. \nMás información y reservas en jdelahoz@nauticapuertogris.com y en +34 628173794 \nDisfruta la naturaleza en Cantabria\, + x descubrir \n 
URL:https://staging.turismodecantabria.eurocastaliahost4.com/proximamente-evento/la-costa-quebrada-desde-el-mar/
LOCATION:Santander\, Santander
CATEGORIES:Actividades con niños,Experiencias,Todo el año
ATTACH;FMTTYPE=image/jpeg:https://staging.turismodecantabria.eurocastaliahost4.com/wp-content/uploads/2023/12/e7ec22d1-fdcf-1963-eb05-a6c32d3aabd3.jpg
END:VEVENT
BEGIN:VEVENT
DTSTART;VALUE=DATE:20231230
DTEND;VALUE=DATE:20231231
DTSTAMP:20260423T205034
CREATED:20240205T150729Z
LAST-MODIFIED:20240611T104401Z
UID:10017117-1703894400-1703980799@staging.turismodecantabria.eurocastaliahost4.com
SUMMARY:La Piedra domada
DESCRIPTION:Esta ruta de 4 horas de duración\, lineal y sin desnivel\, pueden hacerla niños desde 5 años  \nMás información y reservas en la web oficial \nDisfruta la naturaleza en Cantabria\, + x descubrir
URL:https://staging.turismodecantabria.eurocastaliahost4.com/proximamente-evento/la-piedra-domada-3/
CATEGORIES:Actividades con niños,Naturaleza,Visitas guiadas
ATTACH;FMTTYPE=image/jpeg:https://staging.turismodecantabria.eurocastaliahost4.com/wp-content/uploads/2023/12/ebc0904f-de0f-1036-14e6-a3ec66f708ab-uxf1xo.tmp-.jpg
END:VEVENT
BEGIN:VEVENT
DTSTART;VALUE=DATE:20231210
DTEND;VALUE=DATE:20231211
DTSTAMP:20260423T205034
CREATED:20231214T112717Z
LAST-MODIFIED:20240611T104401Z
UID:10016912-1702166400-1702252799@staging.turismodecantabria.eurocastaliahost4.com
SUMMARY:Historia de dos playas
DESCRIPTION:Esta ruta circular de 4 kilómetros\, adecuada para niños desde 5 años\, tendrá una duración de las 10:00 a las 14:00 horas \nMás información y reservas en la web oficial \nDisfruta la naturaleza en Cantabria\, + x descubrir
URL:https://staging.turismodecantabria.eurocastaliahost4.com/proximamente-evento/historia-de-dos-playas/
CATEGORIES:Actividades con niños,Visitas guiadas
ATTACH;FMTTYPE=image/jpeg:https://staging.turismodecantabria.eurocastaliahost4.com/wp-content/uploads/2023/12/08080c60-1732-b035-15de-0c31bce577ca-r6yskh.tmp-.jpg
END:VEVENT
BEGIN:VEVENT
DTSTART;VALUE=DATE:20231209
DTEND;VALUE=DATE:20231210
DTSTAMP:20260423T205034
CREATED:20231214T112655Z
LAST-MODIFIED:20240611T104401Z
UID:10016902-1702080000-1702166399@staging.turismodecantabria.eurocastaliahost4.com
SUMMARY:La Piedra domada
DESCRIPTION:Esta ruta de 4 horas de duración\, lineal y sin desnivel\, pueden hacerla niños desde 5 años  \nMás información y reservas en la web oficial \nDisfruta la naturaleza en Cantabria\, + x descubrir
URL:https://staging.turismodecantabria.eurocastaliahost4.com/proximamente-evento/la-piedra-domada/
CATEGORIES:Actividades con niños,Naturaleza,Visitas guiadas
ATTACH;FMTTYPE=image/jpeg:https://staging.turismodecantabria.eurocastaliahost4.com/wp-content/uploads/2023/12/ebc0904f-de0f-1036-14e6-a3ec66f708ab-uxf1xo.tmp-.jpg
END:VEVENT
BEGIN:VEVENT
DTSTART;VALUE=DATE:20231126
DTEND;VALUE=DATE:20231127
DTSTAMP:20260423T205034
CREATED:20231214T112301Z
LAST-MODIFIED:20240515T154908Z
UID:10016816-1700956800-1701043199@staging.turismodecantabria.eurocastaliahost4.com
SUMMARY:El Paisaje disuelto
DESCRIPTION:Una amplia extensión de calizas disueltas por el agua de lluvia da lugar en este tramo a un paisaje singular que\, desde el estuario del Pas hasta Usgo\, nos ofrece formas fantásticas que aprenderemos a interpretar. \nLa visita tendrá lugar de las 10 a las 14 horas \nMás información en la web oficial \nDisfruta la naturaleza en Cantabria\, + x descubrir
URL:https://staging.turismodecantabria.eurocastaliahost4.com/proximamente-evento/el-paisaje-disuelto/
CATEGORIES:Actividades con niños,Naturaleza
ATTACH;FMTTYPE=image/png:https://staging.turismodecantabria.eurocastaliahost4.com/wp-content/uploads/2023/04/7dcb72bb-3c74-06fa-f421-61217c3360ba-ahp0mv.tmp-.png
END:VEVENT
BEGIN:VEVENT
DTSTART;VALUE=DATE:20231112
DTEND;VALUE=DATE:20231113
DTSTAMP:20260423T205034
CREATED:20231214T112009Z
LAST-MODIFIED:20240515T154909Z
UID:10016761-1699747200-1699833599@staging.turismodecantabria.eurocastaliahost4.com
SUMMARY:La atalaya de Costa Quebrada
DESCRIPTION:Ven a disfrutar de esta visita guiada en el Parque Geológico Costa Quebrada de las 10 a las 14 horas \nMás información y reservas en la web oficial \nDisfruta la naturaleza en Cantabria\, + x descubrir
URL:https://staging.turismodecantabria.eurocastaliahost4.com/proximamente-evento/la-atalaya-de-costa-quebrada/
CATEGORIES:Actividades con niños,Naturaleza
ATTACH;FMTTYPE=image/png:https://staging.turismodecantabria.eurocastaliahost4.com/wp-content/uploads/2023/04/d7820d5a-da09-4ff1-ec05-fecc08a962e0-hb4ovq.tmp-.png
END:VEVENT
BEGIN:VEVENT
DTSTART;VALUE=DATE:20231111
DTEND;VALUE=DATE:20231112
DTSTAMP:20260423T205034
CREATED:20231214T111949Z
LAST-MODIFIED:20240515T140746Z
UID:10016753-1699660800-1699747199@staging.turismodecantabria.eurocastaliahost4.com
SUMMARY:De rituales y creencias
DESCRIPTION:El lugar de la virgen del Mar atrae la atención del ser humano desde tiempos muy distantes. En una pequeña área se concentran actividades tradicionales\, vestigios prehistóricos\, y una serie de elementos espirituales relacionados con la celebración de la vida y la muerte. \nMás información en la web oficial \nDisfruta Costa Quebrada en Cantabria\, + x descubrir
URL:https://staging.turismodecantabria.eurocastaliahost4.com/proximamente-evento/de-rituales-y-creencias/
CATEGORIES:Actividades con niños,Naturaleza
ATTACH;FMTTYPE=image/jpeg:https://staging.turismodecantabria.eurocastaliahost4.com/wp-content/uploads/2023/12/a21475ee-3f3f-8375-7bfb-e371db9e0eba-i7bnjr.tmp-.jpg
END:VEVENT
BEGIN:VEVENT
DTSTART;VALUE=DATE:20231015
DTEND;VALUE=DATE:20231016
DTSTAMP:20260423T205034
CREATED:20231214T111604Z
LAST-MODIFIED:20240515T140811Z
UID:10016633-1697328000-1697414399@staging.turismodecantabria.eurocastaliahost4.com
SUMMARY:El último refugio del misterio
DESCRIPTION:El Pozo Tremeo es la única laguna natural de la franja costera de Cantabria. Desvelaremos todo lo que se conoce sobre su origen geológico y su funcionamiento\, hasta donde la ciencia llega en la actualidad. Esta pequeña joya guarda aún muchos interrogantes\, y en ella se guarecen leyendas populares y mitos. \nMás información en la web oficial \nDisfruta la naturaleza en Cantabria\, + x descubrir
URL:https://staging.turismodecantabria.eurocastaliahost4.com/proximamente-evento/el-ultimo-refugio-del-misterio-2/
CATEGORIES:Actividades con niños,Naturaleza
ATTACH;FMTTYPE=image/jpeg:https://staging.turismodecantabria.eurocastaliahost4.com/wp-content/uploads/2023/04/eb918bf3-2fa0-a3ed-40e6-1fe6033b93c5-ilnfmw.tmp-.jpg
END:VEVENT
BEGIN:VEVENT
DTSTART;VALUE=DATE:20230915
DTEND;VALUE=DATE:20230916
DTSTAMP:20260423T205034
CREATED:20231214T110953Z
LAST-MODIFIED:20240515T143831Z
UID:10016487-1694736000-1694822399@staging.turismodecantabria.eurocastaliahost4.com
SUMMARY:Una selva de otro tiempo
DESCRIPTION:El área que circunda la cueva de El Pendo alberga una singular formación vegetal\, refugiada en los áridos afloramientos de roca caliza. Esta selva lleva millones de años viajando a lomos de los continentes que se desplazan\, y\, en el camino\, se han ido sumando nuevas especies vegetales y animales. Comprenderemos los cambios que ha experimentado este entorno a lo largo de la prehistoria\, cuando las sucesivas gentes que utilizaron El Pendo se desenvolvían por el área. \nMás información en la web oficial \nDisfruta la naturaleza en Cantabria\, + x descubrir
URL:https://staging.turismodecantabria.eurocastaliahost4.com/proximamente-evento/una-selva-de-otro-tiempo/
CATEGORIES:Actividades con niños,Naturaleza
ATTACH;FMTTYPE=image/jpeg:https://staging.turismodecantabria.eurocastaliahost4.com/wp-content/uploads/2023/12/6f9fcadd-606b-dc9c-3287-b8f226351b3f-efng1t.tmp-.jpg
END:VEVENT
BEGIN:VEVENT
DTSTART;VALUE=DATE:20230913
DTEND;VALUE=DATE:20230919
DTSTAMP:20260423T205034
CREATED:20231214T110916Z
LAST-MODIFIED:20240516T111650Z
UID:10016469-1694563200-1695081599@staging.turismodecantabria.eurocastaliahost4.com
SUMMARY:Safari Mareal Nocturno
DESCRIPTION:Un ejemplo especialmente ilustrativo de evolución costera y de interacción entre procesos costeros y constitución geológica \nLa zona intermareal rocosa alberga uno de los ecosistemas más vistosos y diversos. Los colores y formas excéntricas de los seres vivos que habitan este lugar tan exigente nos permiten conocer sus formas de vida\, los retos a los que se enfrentan y la forma en la que los sortean. \nEstas visitas tendrán lugar cada día  \nInscripciones en la web oficial \nDisfruta la naturaleza en Cantabria\, + x descubrir
URL:https://staging.turismodecantabria.eurocastaliahost4.com/proximamente-evento/safari-mareal-nocturno/
CATEGORIES:Actividades con niños,Naturaleza
ATTACH;FMTTYPE=image/jpeg:https://staging.turismodecantabria.eurocastaliahost4.com/wp-content/uploads/2023/04/67b9d887-1b9f-e8c7-a182-64846387908e-ilfo8p.tmp-.jpg
END:VEVENT
BEGIN:VEVENT
DTSTART;VALUE=DATE:20230902
DTEND;VALUE=DATE:20230903
DTSTAMP:20260423T205034
CREATED:20231214T110626Z
LAST-MODIFIED:20240515T155634Z
UID:10016416-1693612800-1693699199@staging.turismodecantabria.eurocastaliahost4.com
SUMMARY:12 horas de palas en Costa Quebrada
DESCRIPTION:De 9:00 a 21:00\, las palas cántabras serán las protagonistas de la jornada en la playa de San Juan de La Canal\, en el Geoparque Aspirante de Costa Quebrada. \nInscríbete ya escaneando el QR del cartel adjunto. \nEste verano\, disfruta del deporte en Cantabria\, + x Descubrir.
URL:https://staging.turismodecantabria.eurocastaliahost4.com/proximamente-evento/12-horas-de-palas-en-costa-quebrada/
CATEGORIES:Deportes,Naturaleza
ATTACH;FMTTYPE=image/jpeg:https://staging.turismodecantabria.eurocastaliahost4.com/wp-content/uploads/2023/12/34665141-a6ae-57fc-1e27-7a11a4f25fd1-8zmdxq.tmp-.jpg
END:VEVENT
BEGIN:VEVENT
DTSTART;VALUE=DATE:20230604
DTEND;VALUE=DATE:20230605
DTSTAMP:20260423T205034
CREATED:20231214T103102Z
LAST-MODIFIED:20240515T145008Z
UID:10015954-1685836800-1685923199@staging.turismodecantabria.eurocastaliahost4.com
SUMMARY:Los Urros Fest
DESCRIPTION:Los Urros Fest\, el primer festival de educación ambiental de Cantabria. Durante todo el domingo 4 de junio disfrutaremos de conciertos en el espectacular marco de la playa de Somocuevas y rutas guiadas y charlas de la  \nDesde el mediodía hasta el anochecer\, podremos escuchar los conciertos de @carladelgadopri\, @alexporras18\, @soylukaro y @sarapuaj \nPuedes ver el programa completo en el fichero adjunto \nDisfruta Costa Quebrada en Cantabria\, + x descubrir
URL:https://staging.turismodecantabria.eurocastaliahost4.com/proximamente-evento/los-urros-fest/
CATEGORIES:Actividades con niños,Fiestas y ferias
ATTACH;FMTTYPE=image/jpeg:https://staging.turismodecantabria.eurocastaliahost4.com/wp-content/uploads/2023/12/4178c58e-ab99-e480-8df2-c48c7310f971-biomih.tmp-.jpg
END:VEVENT
BEGIN:VEVENT
DTSTART;VALUE=DATE:20230324
DTEND;VALUE=DATE:20230326
DTSTAMP:20260423T205034
CREATED:20231213T170252Z
LAST-MODIFIED:20240515T145050Z
UID:10015658-1679616000-1679788799@staging.turismodecantabria.eurocastaliahost4.com
SUMMARY:Jornadas del misterio del aula Costa Quebrada
DESCRIPTION:Puedes ver el programa completo en el fichero adjunto \nDisfruta Miengo en Cantabria\, + x descubrir
URL:https://staging.turismodecantabria.eurocastaliahost4.com/proximamente-evento/jornadas-del-misterio-del-aula-costa-quebrada/
CATEGORIES:Actividades con niños,Cultura
ATTACH;FMTTYPE=image/jpeg:https://staging.turismodecantabria.eurocastaliahost4.com/wp-content/uploads/2023/04/3e082bda-dd55-2468-042b-c9ce92313d7a-iraobz.tmp-.jpg
END:VEVENT
BEGIN:VEVENT
DTSTART;VALUE=DATE:20220712
DTEND;VALUE=DATE:20220916
DTSTAMP:20260423T205034
CREATED:20231213T160656Z
LAST-MODIFIED:20240515T145735Z
UID:10014703-1657584000-1663286399@staging.turismodecantabria.eurocastaliahost4.com
SUMMARY:Ruta costera y visita a huerta eco
DESCRIPTION:Durante la ruta el guía nos trasladará a un pasado lejano en el que otros organismos dominaban la tierra\, a través de las explicaciones descubriremos cómo se formaron estos imponentes acantilados. Además\, como en todas nuestras rutas\, no faltarán los datos curiosos sobre plantas\, animales e insectos que vayamos encontrando. También veremos algunas plantas invasoras y comentaremos su influencia en el ecosistema. \n Todo esto\, como siempre\, adaptado a las características del grupo y sin olvidarnos de los más pequeños\, con los que realizaremos un juego de investigación durante la ruta. \n Para finalizar la experiencia visitaremos la huerta ecológica Calmachicha\, en donde\, con la ayuda de Nano\, aprenderemos los secretos de una producción ecológica de calidad\, sostenible y de Km 0. \nAntes de regresar al punto de inicio\, degustaremos in situ unas tapas elaboradas con productos de la huerta\, más fresco imposible. El que así lo haya elegido\, podrá llevarse a su casa una completa cesta con productos de la huerta de Nano\, para seguir recordando esta bonita jornada por la Costa Cántabra. \nHorario:  \n\nMiércoles 10 y 17 h\nJueves: 10:00\nViernes 10 y 17 h \nSábados 10:00\n \n\nLa actividad tiene una duración de 4\,5 h e incluye: \n– Guía especialista – Ruta guiada por los acantilados – Visita guiada a Huerta ecológica – Juegos para los peques – Degustación de productos – Cesta de productos (opcional) – Seguros de RC y accidentes \nEl precio son 35€ adultos y 15€ niños de 6 a 12 años. \nMenores de 6 gratis 1 por adulto. \nMás información en la web oficial \nDisfruta la naturaleza y la gastronomía en Cantabria\, + x descubrir
URL:https://staging.turismodecantabria.eurocastaliahost4.com/proximamente-evento/ruta-costera-y-visita-a-huerta-eco/
CATEGORIES:Actividades con niños,Experiencias
ATTACH;FMTTYPE=image/jpeg:https://staging.turismodecantabria.eurocastaliahost4.com/wp-content/uploads/2023/04/3ca65161-1b7c-0638-6439-7c69c53ae2a1-jisvon.tmp-.jpg
END:VEVENT
BEGIN:VEVENT
DTSTART;VALUE=DATE:20220408
DTEND;VALUE=DATE:20220410
DTSTAMP:20260423T205034
CREATED:20231213T154515Z
LAST-MODIFIED:20240502T151720Z
UID:10014317-1649376000-1649548799@staging.turismodecantabria.eurocastaliahost4.com
SUMMARY:Jornadas del misterio
DESCRIPTION:El programa completo puede descargarse en el fichero adjunto \nMás información e inscripciones en turismo@aytomiengo.org o en el teléfono 666178050 \nDisfruta la naturaleza en Cantabria\, + x descubrir
URL:https://staging.turismodecantabria.eurocastaliahost4.com/proximamente-evento/jornadas-del-misterio/
CATEGORIES:Naturaleza
ATTACH;FMTTYPE=image/jpeg:https://staging.turismodecantabria.eurocastaliahost4.com/wp-content/uploads/2023/04/b80e6f77-d66b-105e-dd6c-9523e8bcc19d-g2m244.tmp-.jpg
END:VEVENT
BEGIN:VEVENT
DTSTART;VALUE=DATE:20211211
DTEND;VALUE=DATE:20211212
DTSTAMP:20260423T205034
CREATED:20231213T152353Z
LAST-MODIFIED:20240502T150941Z
UID:10013915-1639180800-1639267199@staging.turismodecantabria.eurocastaliahost4.com
SUMMARY:El último refugio del misterio
DESCRIPTION:El Pozo Tremeo es la única laguna natural de la franja costera de Cantabria. Desvelaremos todo lo que se conoce sobre su origen geológico y su funcionamiento\, hasta donde la ciencia llega en la actualidad. Esta pequeña joya guarda aún muchos interrogantes \nMás información e inscripciones de esta ruta lineal para toda la familia\, en la web oficial \nDisfruta la naturaleza en Cantabria\, + x descubrir
URL:https://staging.turismodecantabria.eurocastaliahost4.com/proximamente-evento/el-ultimo-refugio-del-misterio/
CATEGORIES:Naturaleza
ATTACH;FMTTYPE=image/png:https://staging.turismodecantabria.eurocastaliahost4.com/wp-content/uploads/2023/04/72ff352d-0af0-e533-b723-2bc1bb115edb-4ewym3.tmp-.png
END:VEVENT
END:VCALENDAR