BEGIN:VCALENDAR
VERSION:2.0
PRODID:-//Turismo de Cantabria - ECPv6.12.0.1//NONSGML v1.0//EN
CALSCALE:GREGORIAN
METHOD:PUBLISH
X-WR-CALNAME:Turismo de Cantabria
X-ORIGINAL-URL:https://staging.turismodecantabria.eurocastaliahost4.com
X-WR-CALDESC:Eventos para Turismo de Cantabria
REFRESH-INTERVAL;VALUE=DURATION:PT1H
X-Robots-Tag:noindex
X-PUBLISHED-TTL:PT1H
BEGIN:VTIMEZONE
TZID:Europe/Madrid
BEGIN:DAYLIGHT
TZOFFSETFROM:+0100
TZOFFSETTO:+0200
TZNAME:CEST
DTSTART:20250330T010000
END:DAYLIGHT
BEGIN:STANDARD
TZOFFSETFROM:+0200
TZOFFSETTO:+0100
TZNAME:CET
DTSTART:20251026T010000
END:STANDARD
END:VTIMEZONE
BEGIN:VEVENT
DTSTART;VALUE=DATE:20250706
DTEND;VALUE=DATE:20250717
DTSTAMP:20260420T125930
CREATED:20250701T074008Z
LAST-MODIFIED:20260225T145546Z
UID:10016096-1751760000-1752710399@staging.turismodecantabria.eurocastaliahost4.com
SUMMARY:Fiestas del Carmen en Revilla de Camargo
DESCRIPTION:Puedes ver el programa completo de fiestas en el fichero adjunto  \nRevilla de Camargo en Cantabria\, Apetece \n \nPrograma El Carmen en Revilla de Camargo
URL:https://staging.turismodecantabria.eurocastaliahost4.com/proximamente-evento/fiestas-del-carmen-en-revilla-de-camargo/
LOCATION:Camargo\, Camargo\, Santander
CATEGORIES:Fiestas y ferias
ATTACH;FMTTYPE=image/jpeg:https://staging.turismodecantabria.eurocastaliahost4.com/wp-content/uploads/2024/07/el-carmen-en-revilla-e1751611474703.jpg
END:VEVENT
END:VCALENDAR