BEGIN:VCALENDAR
VERSION:2.0
PRODID:-//Turismo de Cantabria - ECPv6.12.0.1//NONSGML v1.0//EN
CALSCALE:GREGORIAN
METHOD:PUBLISH
X-WR-CALNAME:Turismo de Cantabria
X-ORIGINAL-URL:https://staging.turismodecantabria.eurocastaliahost4.com
X-WR-CALDESC:Eventos para Turismo de Cantabria
REFRESH-INTERVAL;VALUE=DURATION:PT1H
X-Robots-Tag:noindex
X-PUBLISHED-TTL:PT1H
BEGIN:VTIMEZONE
TZID:Europe/Madrid
BEGIN:DAYLIGHT
TZOFFSETFROM:+0100
TZOFFSETTO:+0200
TZNAME:CEST
DTSTART:20260329T010000
END:DAYLIGHT
BEGIN:STANDARD
TZOFFSETFROM:+0200
TZOFFSETTO:+0100
TZNAME:CET
DTSTART:20261025T010000
END:STANDARD
END:VTIMEZONE
BEGIN:VEVENT
DTSTART;VALUE=DATE:20260105
DTEND;VALUE=DATE:20260106
DTSTAMP:20260422T053202
CREATED:20251127T150852Z
LAST-MODIFIED:20260108T101156Z
UID:10017138-1767571200-1767657599@staging.turismodecantabria.eurocastaliahost4.com
SUMMARY:Auto Sacramental y Cabalgata de los Reyes Magos de Santillana del Mar
DESCRIPTION:El Auto Sacramental y la Cabalgata de Reyes de Santillana del Mar contará con nueve escenas que se desarrollan en el transcurso de dos horas y media\, a las que posteriormente se suma el tiempo dedicado a la Cabalgata de Reyes\, que comprende otras cuatro escenas más\, que se traducen en alrededor de dos horas más de diversión. \nEsta fiesta supone la participación de 500 personas: Pajes\, antorcheros\, hebreas\, abanderados\, soldados romanos\, pastores y ángeles\, con 5 carrozas\, 20 caballos y 10 ponys\, así como una nutrida representación de la fauna local. \nY por supuesto Sus Majestades los Reyes Magos de Oriente\, que se pasean por la villa en camellos. \nTodos estos figurantes se sumarán a los personajes principales de cada una de las 10 escenas de la obra que se desarrollará en casi todas las calles del casco histórico del pueblo. \nSantillana del Mar en Cantabria\, Apetece \n 
URL:https://staging.turismodecantabria.eurocastaliahost4.com/proximamente-evento/auto-sacramental-y-cabalgata-de-los-reyes-magos-de-santillana-del-mar-2/
LOCATION:Santillana del Mar\, Santillana del Mar\, Santillana del Mar\, Costa central
CATEGORIES:Navidad
ATTACH;FMTTYPE=image/avif:https://staging.turismodecantabria.eurocastaliahost4.com/wp-content/uploads/2024/12/cabalgata-santillana-jpg.avif
END:VEVENT
BEGIN:VEVENT
DTSTART;VALUE=DATE:20260105
DTEND;VALUE=DATE:20260106
DTSTAMP:20260422T053202
CREATED:20251127T150835Z
LAST-MODIFIED:20260108T101204Z
UID:10017136-1767571200-1767657599@staging.turismodecantabria.eurocastaliahost4.com
SUMMARY:Cabalgata de Reyes de Castanedo\, Carriazo y Galizano
DESCRIPTION:Vive la ilusión de una de las noches mas bonitas del año en familia en esta cabalgata perfecta para toda la familia\, que comenzará a las 19:00 horas en Castanedo y concluirá en la Iglesia de Galizano \nMás información en el cartel adjunto \nCastanedo\, Carriazo y Galizano en Cantabria\, Apetecen \n 
URL:https://staging.turismodecantabria.eurocastaliahost4.com/proximamente-evento/cabalgata-de-reyes-de-castanedo-carriazo-y-galizano-2/
LOCATION:Ribamontán al Mar\, Ribamontán al Mar\, Ribamontán al Mar\, Trasmiera
CATEGORIES:Navidad
ATTACH;FMTTYPE=image/jpeg:https://staging.turismodecantabria.eurocastaliahost4.com/wp-content/uploads/2024/02/cabalgata-ribamontan.jpg
END:VEVENT
BEGIN:VEVENT
DTSTART;VALUE=DATE:20260106
DTEND;VALUE=DATE:20260107
DTSTAMP:20260422T053202
CREATED:20251127T151013Z
LAST-MODIFIED:20260108T101120Z
UID:10017162-1767657600-1767743999@staging.turismodecantabria.eurocastaliahost4.com
SUMMARY:Cabalgata y Auto Sacramental de Seña
DESCRIPTION:Todo el pueblo participa en esta representación\, que este año cumple su XXXVI edición poniendo color y alegría a la mañana más mágica del año. El desfile comienza en la Ermita de San Roque y recorre diferentes barrios de la pedanía de Seña\, finalizando en la plaza de la Iglesia Parroquial\, donde se desarrollan los autos sacramentales\, en los que se escenifican diversos pasajes del Evangelio\, desde las 12:30 horas. \nSeña\, en Cantabria\, Apetece
URL:https://staging.turismodecantabria.eurocastaliahost4.com/proximamente-evento/cabalgata-y-auto-sacramental-de-sena-2/
LOCATION:Limpias\, Limpias
CATEGORIES:Navidad
ATTACH;FMTTYPE=image/jpeg:https://staging.turismodecantabria.eurocastaliahost4.com/wp-content/uploads/2024/12/cabalgata-sena.jpg
END:VEVENT
END:VCALENDAR