BEGIN:VCALENDAR
VERSION:2.0
PRODID:-//Turismo de Cantabria - ECPv6.12.0.1//NONSGML v1.0//EN
CALSCALE:GREGORIAN
METHOD:PUBLISH
X-WR-CALNAME:Turismo de Cantabria
X-ORIGINAL-URL:https://staging.turismodecantabria.eurocastaliahost4.com
X-WR-CALDESC:Eventos para Turismo de Cantabria
REFRESH-INTERVAL;VALUE=DURATION:PT1H
X-Robots-Tag:noindex
X-PUBLISHED-TTL:PT1H
BEGIN:VTIMEZONE
TZID:Europe/Madrid
BEGIN:DAYLIGHT
TZOFFSETFROM:+0100
TZOFFSETTO:+0200
TZNAME:CEST
DTSTART:20230326T010000
END:DAYLIGHT
BEGIN:STANDARD
TZOFFSETFROM:+0200
TZOFFSETTO:+0100
TZNAME:CET
DTSTART:20231029T010000
END:STANDARD
BEGIN:DAYLIGHT
TZOFFSETFROM:+0100
TZOFFSETTO:+0200
TZNAME:CEST
DTSTART:20240331T010000
END:DAYLIGHT
BEGIN:STANDARD
TZOFFSETFROM:+0200
TZOFFSETTO:+0100
TZNAME:CET
DTSTART:20241027T010000
END:STANDARD
END:VTIMEZONE
BEGIN:VEVENT
DTSTART;VALUE=DATE:20241005
DTEND;VALUE=DATE:20241006
DTSTAMP:20260420T214619
CREATED:20240912T101634Z
LAST-MODIFIED:20250319T152504Z
UID:10019395-1728086400-1728172799@staging.turismodecantabria.eurocastaliahost4.com
SUMMARY:Ruta guiada a la berrea
DESCRIPTION:¿Quieres conocer el significado de la berrea y escucharlo en directo?. No te pierdas este plan de Reinosa para poder escuchar la berra dirigido a grupo y familias con niños \nMás información en el cartel adjunto \nReinosa en Cantabria\, Apetece \nBerrea en Reinosa
URL:https://staging.turismodecantabria.eurocastaliahost4.com/proximamente-evento/ruta-guiada-a-la-berrea/
LOCATION:Reinosa\, Reinosa\, Campoo
CATEGORIES:Naturaleza
ATTACH;FMTTYPE=image/jpeg:https://staging.turismodecantabria.eurocastaliahost4.com/wp-content/uploads/2024/09/ruta-guiada-a-la-berrea.jpg
END:VEVENT
BEGIN:VEVENT
DTSTART;TZID=Europe/Madrid:20240915T070000
DTEND;TZID=Europe/Madrid:20241006T163000
DTSTAMP:20260420T214619
CREATED:20240904T063932Z
LAST-MODIFIED:20240917T110853Z
UID:10019378-1726383600-1728232200@staging.turismodecantabria.eurocastaliahost4.com
SUMMARY:Rutas guiadas a la berrea en Cantabria
DESCRIPTION:La actividad se realiza en el interior del Parque Natural Saja Besaya por lo que se ruega seguir en todo momento las indicaciones del guía a fin de no provocar impactos innecesarios en el medio. Consiste en una ruta relativamente sencilla hasta un punto de observación en el que con un poco de suerte podremos disfrutar del avistamiento directo y del sobrecogedor sonido de la berrea del ciervo. Durante la ruta el guía nos ira dando claves para entender mejor lo que sucede delante de nuestros ojos. \nSe trata de una ruta sencilla que oscila de los 8 a los 10km de recorrido total con un desnivel poco acusado. Durante la misma el guía especializado nos irá contando datos interesantes sobre la especie y sobre La Berrea. Pararemos en diferentes puntos de observación o cada vez que detectemos algún ejemplar\, desde grupos de hembras con crías hasta los grandes machos. Las observaciones se realizan con prismáticos individuales\, un telescopio de gran alcance y una cámara fotográfica con un potente zoom. Estás pueden variar en tiempo y distancia\, no perseguimos a los animales\, nuestro objetivo es causar el menor impacto posible. Una vez que tengamos visual esperamos hasta que los animales se muevan y se acerquen o se alejen por sí solos. Llevamos grupos muy reducidos\, sólo 8 (10) personas\, esto permite disfrutar de mejores observaciones y perturbar lo menos posible a los animales. A mitad de la ruta os ofrecemos una bebida caliente y un tentempié. Os prestamos prismáticos\, frontales led y bastones de trekking. Quedamos en Espinilla y de ahí os trasladamos en nuestra furgoneta al punto de inicio de la ruta en el puerto de Palombera. Disponemos de dos horarios: 7:00 a 11:00 am y 16:30 a 20:30 aprox. Por la mañana vamos ganando luz y las observaciones pueden ser más luminosas y de mayor calidad\, por la tarde podemos ver más movimiento a última hora y escuchar más bramidos\, pero la luz juega en nuestra contra. La actividad dura 4h. Somos empresa de turismo activo G-12237 y contamos con seguros de responsabilidad civil y accidentes. \nIncluye: \n\nGuía especialista I.T. Forestal\nPréstamo de prismáticos\nUso telescopio de gran alcance\nReportaje fotográfico\nBebida caliente y tentempié\nSeguros de RC y accidentes\n\nMás información y reservas en: \n\nwww.cantabriaexperiencial.com\n687 279 732\n\nLa naturaleza en Cantabria\, Apetece
URL:https://staging.turismodecantabria.eurocastaliahost4.com/proximamente-evento/rutas-guiadas-a-la-berrea-en-cantabria/
LOCATION:Cabuérniga\, Cabuérniga\, Saja-Nansa
CATEGORIES:Experiencias
ATTACH;FMTTYPE=image/jpeg:https://staging.turismodecantabria.eurocastaliahost4.com/wp-content/uploads/2024/09/rutas-guiadas-berrea-e1726041776788.jpeg
END:VEVENT
BEGIN:VEVENT
DTSTART;VALUE=DATE:20230916
DTEND;VALUE=DATE:20231003
DTSTAMP:20260420T214619
CREATED:20231214T111014Z
LAST-MODIFIED:20240610T103950Z
UID:10016492-1694822400-1696291199@staging.turismodecantabria.eurocastaliahost4.com
SUMMARY:La berrea del ciervo
DESCRIPTION:Se trata de una ruta sencilla que oscila de los 5 a los 10km de recorrido total con un desnivel poco acusado. \nDurante la misma el guía especializado nos irá contando datos interesantes sobre la especie y sobre La Berrea. \nPararemos en diferentes puntos de observación o cada vez que detectemos algún ejemplar\, desde grupos de hembras con crías hasta los grandes machos. \nLas observaciones se realizan con prismáticos individuales\, un telescopio de gran alcance y una cámara fotográfica con un potente zoom. Estás pueden variar en tiempo y distancia\, no perseguimos a los animales\, nuestro objetivo es causar el menor impacto posible. Una vez que tengamos visual esperamos hasta que los animales se muevan y se acerquen o se alejen por si solos. \nLlevamos grupos muy reducidos\, sólo 8 personas\, esto permite disfrutar de mejores observaciones y perturbar lo menos posible a los animales. \nA mitad de la ruta os ofrecemos una bebida caliente y un tentempié. \nOs prestamos prismáticos\, frontales led y bastones de trekking. \nQuedamos en Espinilla y de ahí nos trasladamos en furgoneta\, al punto de inicio de la ruta en el puerto de Palombera. \nLos horarios son 7:00 am y 17:00. \nPor la mañana vamos ganando luz y las observaciones pueden ser más luminosas y de mayor calidad\, por la tarde podemos ver más movimiento a última hora y escuchar más bramidos\, pero la luz juega en nuestra contra. \nEl precio es de 35€ por adulto y algo inferior en caso de grupo completo o familia\, hasta 8(10) personas. \nLa actividad dura 4h. \nMás información en www.cantabriaexperiencial.com o en el 687 279 732 \nDisfruta la naturaleza en Cantabria\, + x descubrir
URL:https://staging.turismodecantabria.eurocastaliahost4.com/proximamente-evento/la-berrea-del-ciervo/
LOCATION:Campoo
CATEGORIES:Experiencias
ATTACH;FMTTYPE=image/png:https://staging.turismodecantabria.eurocastaliahost4.com/wp-content/uploads/2023/12/f26a18d3-575c-883c-91b5-ece91fffc7f1-qvki4r.tmp-.png
END:VEVENT
END:VCALENDAR