BEGIN:VCALENDAR
VERSION:2.0
PRODID:-//Turismo de Cantabria - ECPv6.12.0.1//NONSGML v1.0//EN
CALSCALE:GREGORIAN
METHOD:PUBLISH
X-WR-CALNAME:Turismo de Cantabria
X-ORIGINAL-URL:https://staging.turismodecantabria.eurocastaliahost4.com
X-WR-CALDESC:Eventos para Turismo de Cantabria
REFRESH-INTERVAL;VALUE=DURATION:PT1H
X-Robots-Tag:noindex
X-PUBLISHED-TTL:PT1H
BEGIN:VTIMEZONE
TZID:Europe/Madrid
BEGIN:DAYLIGHT
TZOFFSETFROM:+0100
TZOFFSETTO:+0200
TZNAME:CEST
DTSTART:20250330T010000
END:DAYLIGHT
BEGIN:STANDARD
TZOFFSETFROM:+0200
TZOFFSETTO:+0100
TZNAME:CET
DTSTART:20251026T010000
END:STANDARD
BEGIN:DAYLIGHT
TZOFFSETFROM:+0100
TZOFFSETTO:+0200
TZNAME:CEST
DTSTART:20260329T010000
END:DAYLIGHT
BEGIN:STANDARD
TZOFFSETFROM:+0200
TZOFFSETTO:+0100
TZNAME:CET
DTSTART:20261025T010000
END:STANDARD
END:VTIMEZONE
BEGIN:VEVENT
DTSTART;VALUE=DATE:20250101
DTEND;VALUE=DATE:20260101
DTSTAMP:20260425T173528
CREATED:20240517T105520Z
LAST-MODIFIED:20250606T083107Z
UID:10017769-1735689600-1767225599@staging.turismodecantabria.eurocastaliahost4.com
SUMMARY:Visita y degustación fábrica de cerveza
DESCRIPTION:Conoce de cerca como elaboramos nuestra cerveza\, cuales son los ingredientes\, tiempos y diferentes procesos desde el grano a la botella. Una vez terminada la visita\, degustaremos todas nuestras cervezas apreciando los diferentes matices de cada una de ellas.  \n\nHorario: Sábados 11:30\nDuración: 2 horas\nEl precio es de 5 con reserva previa.\n\nMás información en el teléfono 619 809 201 o en la web oficial  \nNuestra gastronomía en Cantabria\, Apetece \n 
URL:https://staging.turismodecantabria.eurocastaliahost4.com/proximamente-evento/visita-y-degustacion-fabrica-de-cerveza/
LOCATION:Santander\, Santander
CATEGORIES:Experiencias,Todo el año,Visitas guiadas
ATTACH;FMTTYPE=image/jpeg:https://staging.turismodecantabria.eurocastaliahost4.com/wp-content/uploads/2023/12/fcf3053c-695d-1328-f88c-13f49b3958e7.jpg
END:VEVENT
BEGIN:VEVENT
DTSTART;TZID=Europe/Madrid:20250324T080000
DTEND;TZID=Europe/Madrid:20251230T170000
DTSTAMP:20260425T173528
CREATED:20250324T102605Z
LAST-MODIFIED:20250425T075350Z
UID:10019942-1742803200-1767114000@staging.turismodecantabria.eurocastaliahost4.com
SUMMARY:Visitas guiadas Museo del Agua
DESCRIPTION:La ciudad dispone de un Museo del Agua\, donde se puede realizar un ameno e instructivo viaje por la histórica relación entre el agua y la ciudad de Santander desde finales del siglo XIX hasta nuestros días\, además de visitar el depósito de Pronillo\, el más antiguo de la ciudad de un importante valor arquitectónico. En el museo queda reflejado por medio de un amplio despliegue de maquetas\, paneles y material audiovisual\, el esfuerzo necesario para captar el agua desde los ríos y montañas del interior de Cantabria\, transportarla\, tratarla y distribuirla a través de las conducciones para poner el preciado e imprescindible elemento a disposición de todos los hogares de Santander. \nLa exposición está dividida en dos salas:  \n\nSala 1: «Historia del abastecimiento»\nSala 2: «El ciclo integral del agua»\n\nLas visitas se realizaran de lunes a viernes por las mañanas\, solicitando cita previa para grupos en el teléfono 942 357 399. \nSantander en Cantabria\, Apetece
URL:https://staging.turismodecantabria.eurocastaliahost4.com/proximamente-evento/visitas-guiadas-museo-del-agua/
LOCATION:Santander\, Santander
CATEGORIES:Visitas guiadas
ATTACH;FMTTYPE=image/jpeg:https://staging.turismodecantabria.eurocastaliahost4.com/wp-content/uploads/2025/03/museo-agua-e1744099270302.jpg
END:VEVENT
BEGIN:VEVENT
DTSTART;TZID=Europe/Madrid:20250526T080000
DTEND;TZID=Europe/Madrid:20251231T170000
DTSTAMP:20260425T173528
CREATED:20250526T110039Z
LAST-MODIFIED:20250925T092533Z
UID:10020112-1748246400-1767200400@staging.turismodecantabria.eurocastaliahost4.com
SUMMARY:Poblado cántabro
DESCRIPTION:Más información en el cartel adjunto \n*El primero es todo el año y el segundo para verano con los horarios y días ampliados \nCabezón de la Sal en Cantabria\, Apetece \npoblado cántabro  poblado verano 2025
URL:https://staging.turismodecantabria.eurocastaliahost4.com/proximamente-evento/poblado-cantabro/
LOCATION:Cabezón de la Sal\, Cabezón de la Sal\, Cabezón de la Sal\, Costa central
CATEGORIES:Visitas guiadas
ATTACH;FMTTYPE=image/jpeg:https://staging.turismodecantabria.eurocastaliahost4.com/wp-content/uploads/2025/05/poblado-cantabro-1.jpg
END:VEVENT
BEGIN:VEVENT
DTSTART;TZID=Europe/Madrid:20250526T080000
DTEND;TZID=Europe/Madrid:20251231T170000
DTSTAMP:20260425T173528
CREATED:20250526T110732Z
LAST-MODIFIED:20250806T074240Z
UID:10020113-1748246400-1767200400@staging.turismodecantabria.eurocastaliahost4.com
SUMMARY:Descubre el museo del calabozo
DESCRIPTION:Durante un breve espacio de tiempo\, mediante una visita guiada realizada bajo luz de las velas\, retrocederemos a una recreación fidedigna con piezas originales\, de cómo pudo ser en este período la permanencia en la celda. Podremos contemplar el cuarto del alguacil y el calabozo propiamente dicho\, en la planta baja del edificio\, con su bóveda de cañón rebajado y muros de metro y medio de grosor. Dispone además de objetos de la época: Varios grilletes\, la puerta del calabozo de clavos\, la mesa del escribano\, la alacena de clavos… \nEl Calabozo se encuentra ubicado en la Plaza Augusto G. Linares\, en los bajos del conocido como Edificio de la Torre. \nMás información en el cartel adjunto \nCabezón de la Sal en Cantabria\, Apetece \nmuseo del calabozo
URL:https://staging.turismodecantabria.eurocastaliahost4.com/proximamente-evento/descubre-el-museo-del-calabozo/
LOCATION:Cabezón de la Sal\, Cabezón de la Sal\, Cabezón de la Sal\, Costa central
CATEGORIES:Visitas guiadas
ATTACH;FMTTYPE=image/jpeg:https://staging.turismodecantabria.eurocastaliahost4.com/wp-content/uploads/2025/05/museo-calabozo-cabezon-sal.jpg
END:VEVENT
BEGIN:VEVENT
DTSTART;TZID=Europe/Madrid:20250718T080000
DTEND;TZID=Europe/Madrid:20251231T170000
DTSTAMP:20260425T173528
CREATED:20250718T105607Z
LAST-MODIFIED:20250806T075947Z
UID:10020321-1752825600-1767200400@staging.turismodecantabria.eurocastaliahost4.com
SUMMARY:Vivero de Realidad Virtual
DESCRIPTION:El objetivo de esta propuesta es crear un archivo digitalizado de exposiciones\, ahora accesibles en 360°\, como memoria de la programación de Fundación ENAIRE. La tecnología permite preservar y difundir experiencias culturales\, acercando el arte y la historia a un público más amplio. \nAdemás\, también podrás explorar paisajes icónicos de España a través de las últimas tecnologías VR\, sobrevolando entornos espectaculares grabados con dron. \nTe esperamos en el Centro de Arte Naves de Gamazo para vivirlo en primera persona. \n¡Ven y ponte nuestras gafas de realidad virtual! \nMás información y horarios en la web oficial \nLa cultura en Cantabria\, Apetece
URL:https://staging.turismodecantabria.eurocastaliahost4.com/proximamente-evento/vivero-de-realidad-virtual/
LOCATION:Santander\, Santander
CATEGORIES:Visitas guiadas
ATTACH;FMTTYPE=image/jpeg:https://staging.turismodecantabria.eurocastaliahost4.com/wp-content/uploads/2025/07/vivero-de-realidad-virtual-2-e1752836154460.jpg
END:VEVENT
BEGIN:VEVENT
DTSTART;VALUE=DATE:20251110
DTEND;VALUE=DATE:20260330
DTSTAMP:20260425T173528
CREATED:20251226T081152Z
LAST-MODIFIED:20260212T072126Z
UID:10017187-1762732800-1774828799@staging.turismodecantabria.eurocastaliahost4.com
SUMMARY:Conoce el Observatorio del arte
DESCRIPTION:La visita se realiza por diferentes espacios del centro de Interpretación. Comienza con una introducción a la histórica comarca de Trasmiera y el periodo histórico medieval en el que miles de artífices salieron de estas tierras para construir el gran patrimonio histórico-cultural de España. Luego visitamos el interactivo Taller de los Solorzano donde conoceremos la curiosa forma de trabajar de los canteros trasmeranos\, su organización y hasta su jerga. Pasamos a la sala “A píe de obra” en la que podréis conocer a fondo los principales oficios de campaneros con Alejandro de Gargollo y la fundición de la campana más grande de España\, retablistas como Simón de Bueras\, canteros y arquitectos como Juan de Castillo o Bartolomé de Solorzano y sus obras más relevantes. Para finalizar contrastaremos los oficios de los artistas medievales con las nuevas propuestas de arte contemporáneo que exhibimos en nuestra sala “Embajadores de Cantabria”. \nMás información y reservas en la web oficial \nEl Ecoparque de Trasmiera en Cantabria\, Apetece
URL:https://staging.turismodecantabria.eurocastaliahost4.com/proximamente-evento/conoce-el-observatorio-del-arte-2/
LOCATION:Arnuero\, Arnuero\, Trasmiera
CATEGORIES:Visitas guiadas
ATTACH;FMTTYPE=image/jpeg:https://staging.turismodecantabria.eurocastaliahost4.com/wp-content/uploads/2025/12/observatorio-arte-arnuero.jpg
END:VEVENT
END:VCALENDAR