BEGIN:VCALENDAR
VERSION:2.0
PRODID:-//Turismo de Cantabria - ECPv6.12.0.1//NONSGML v1.0//EN
CALSCALE:GREGORIAN
METHOD:PUBLISH
X-WR-CALNAME:Turismo de Cantabria
X-ORIGINAL-URL:https://staging.turismodecantabria.eurocastaliahost4.com
X-WR-CALDESC:Eventos para Turismo de Cantabria
REFRESH-INTERVAL;VALUE=DURATION:PT1H
X-Robots-Tag:noindex
X-PUBLISHED-TTL:PT1H
BEGIN:VTIMEZONE
TZID:Europe/Madrid
BEGIN:DAYLIGHT
TZOFFSETFROM:+0100
TZOFFSETTO:+0200
TZNAME:CEST
DTSTART:20250330T010000
END:DAYLIGHT
BEGIN:STANDARD
TZOFFSETFROM:+0200
TZOFFSETTO:+0100
TZNAME:CET
DTSTART:20251026T010000
END:STANDARD
END:VTIMEZONE
BEGIN:VEVENT
DTSTART;TZID=Europe/Madrid:20250516T080000
DTEND;TZID=Europe/Madrid:20250518T170000
DTSTAMP:20260424T053125
CREATED:20250513T104636Z
LAST-MODIFIED:20260225T113043Z
UID:10020082-1747382400-1747587600@staging.turismodecantabria.eurocastaliahost4.com
SUMMARY:Festival Dragon Boat
DESCRIPTION:Santoña se llena de energía y solidaridad en una jornada única\, llena de fuerza\, emoción y compañerismo. \nPor remar con nosotras y hacer posible esta gran marea rosa. \n¡Reserva la fecha y prepárate para un día inolvidable!. \nNo importa si eres principiante o experta\, ¡lo importante es unirse a esta gran marea rosa!  \nVen a animar\, participa y comparte esta experiencia inolvidable. Porque juntas\, somos más fuertes.  \nMás información en la web oficial \nSantoña en Cantabria\, Apetece \n  \nDragon Boat
URL:https://staging.turismodecantabria.eurocastaliahost4.com/proximamente-evento/festival-dragon-boat/
LOCATION:Santoña\, Santoña\, Trasmiera\, Spain
CATEGORIES:Varios
ATTACH;FMTTYPE=image/jpeg:https://staging.turismodecantabria.eurocastaliahost4.com/wp-content/uploads/2025/05/dragon-boat-1-e1747133179186.jpg
END:VEVENT
END:VCALENDAR