BEGIN:VCALENDAR
VERSION:2.0
PRODID:-//Turismo de Cantabria - ECPv6.12.0.1//NONSGML v1.0//EN
CALSCALE:GREGORIAN
METHOD:PUBLISH
X-WR-CALNAME:Turismo de Cantabria
X-ORIGINAL-URL:https://staging.turismodecantabria.eurocastaliahost4.com
X-WR-CALDESC:Eventos para Turismo de Cantabria
REFRESH-INTERVAL;VALUE=DURATION:PT1H
X-Robots-Tag:noindex
X-PUBLISHED-TTL:PT1H
BEGIN:VTIMEZONE
TZID:Europe/Madrid
BEGIN:DAYLIGHT
TZOFFSETFROM:+0100
TZOFFSETTO:+0200
TZNAME:CEST
DTSTART:20220327T010000
END:DAYLIGHT
BEGIN:STANDARD
TZOFFSETFROM:+0200
TZOFFSETTO:+0100
TZNAME:CET
DTSTART:20221030T010000
END:STANDARD
BEGIN:DAYLIGHT
TZOFFSETFROM:+0100
TZOFFSETTO:+0200
TZNAME:CEST
DTSTART:20230326T010000
END:DAYLIGHT
BEGIN:STANDARD
TZOFFSETFROM:+0200
TZOFFSETTO:+0100
TZNAME:CET
DTSTART:20231029T010000
END:STANDARD
BEGIN:DAYLIGHT
TZOFFSETFROM:+0100
TZOFFSETTO:+0200
TZNAME:CEST
DTSTART:20240331T010000
END:DAYLIGHT
BEGIN:STANDARD
TZOFFSETFROM:+0200
TZOFFSETTO:+0100
TZNAME:CET
DTSTART:20241027T010000
END:STANDARD
BEGIN:DAYLIGHT
TZOFFSETFROM:+0100
TZOFFSETTO:+0200
TZNAME:CEST
DTSTART:20250330T010000
END:DAYLIGHT
BEGIN:STANDARD
TZOFFSETFROM:+0200
TZOFFSETTO:+0100
TZNAME:CET
DTSTART:20251026T010000
END:STANDARD
END:VTIMEZONE
BEGIN:VEVENT
DTSTART;VALUE=DATE:20220211
DTEND;VALUE=DATE:20220213
DTSTAMP:20260423T101116
CREATED:20231213T154024Z
LAST-MODIFIED:20240610T111052Z
UID:10014104-1644537600-1644710399@staging.turismodecantabria.eurocastaliahost4.com
SUMMARY:San Valentín en Hotel Mar Azul
DESCRIPTION:Alojamiento\, cena romántica\, desayuno buffet\, música en directo y detalle en la habitación por solo 69 Euros persona \nMás información y reservas en 942811551 \nDisfruta Suances en Cantabria\, + x descubrir
URL:https://staging.turismodecantabria.eurocastaliahost4.com/proximamente-evento/san-valentin-en-hotel-mar-azul/
CATEGORIES:Ofertas de alojamientos
ATTACH;FMTTYPE=image/jpeg:https://staging.turismodecantabria.eurocastaliahost4.com/wp-content/uploads/2023/04/890012b9-7ae6-8661-4287-bb9f1620b1d0-7a516p.tmp-.jpg
END:VEVENT
BEGIN:VEVENT
DTSTART;TZID=Europe/Madrid:20250401T080000
DTEND;TZID=Europe/Madrid:20250430T170000
DTSTAMP:20260423T101116
CREATED:20250305T132832Z
LAST-MODIFIED:20260225T121900Z
UID:10019911-1743494400-1746032400@staging.turismodecantabria.eurocastaliahost4.com
SUMMARY:Doble oferta combinada
DESCRIPTION:2 DÍAS EN HOTEL RHIN GARDEN + 2 DÍAS EN BALNEARIO DE PUENTE VIESGO \nGracias a la gran acogida de esta promoción\, ¡ampliamos validez hasta el 30 abril 2025!   \nAprovéchate de un fin de semana en Santander\, junto a la playa del Sardinero\, pasea por sus calles\, disfruta de lugares emblemáticos y de su gastronomía y alójate en el nuevo hotel Rhin Garden: diseño\, sostenibilidad y comodidad en el Sardinero. (Más info en la web oficial) \nTómate después unos días para ti\, para cuidarte\, descansar y disfrutar del inolvidable entorno de Puente Viesgo\, a sólo 28 kms de Santander. Recupérate en el Balneario de Puente Viesgo donde te incluimos el circuito termal Templo del Agua (2 horas) y el Circuito Cántabro (50 min.) durante tu estancia\, como complemento ideal a tu bienestar.(Más info en la web oficial) \nCantabria\, Apetece \n 
URL:https://staging.turismodecantabria.eurocastaliahost4.com/proximamente-evento/doble-oferta-combinada/
LOCATION:Cantabria
CATEGORIES:Ofertas Balnearios y Spa en Cantabria,Ofertas de alojamientos
ATTACH;FMTTYPE=image/jpeg:https://staging.turismodecantabria.eurocastaliahost4.com/wp-content/uploads/2025/03/cuidamos-su-bien-estar.jpg
END:VEVENT
END:VCALENDAR